BEGIN:VCALENDAR
VERSION:2.0
PRODID:-//Cobh Great Island Community Centre - ECPv6.11.1//NONSGML v1.0//EN
CALSCALE:GREGORIAN
METHOD:PUBLISH
X-WR-CALNAME:Cobh Great Island Community Centre
X-ORIGINAL-URL:https://cobhcommunitycentre.ie
X-WR-CALDESC:Events for Cobh Great Island Community Centre
REFRESH-INTERVAL;VALUE=DURATION:PT1H
X-Robots-Tag:noindex
X-PUBLISHED-TTL:PT1H
BEGIN:VTIMEZONE
TZID:Europe/London
BEGIN:DAYLIGHT
TZOFFSETFROM:+0000
TZOFFSETTO:+0100
TZNAME:BST
DTSTART:20190331T010000
END:DAYLIGHT
BEGIN:STANDARD
TZOFFSETFROM:+0100
TZOFFSETTO:+0000
TZNAME:GMT
DTSTART:20191027T010000
END:STANDARD
END:VTIMEZONE
BEGIN:VEVENT
DTSTART;TZID=Europe/London:20190411T193000
DTEND;TZID=Europe/London:20190411T213000
DTSTAMP:20260420T155129
CREATED:20190404T144114Z
LAST-MODIFIED:20190405T114923Z
UID:5771-1555011000-1555018200@cobhcommunitycentre.ie
SUMMARY:Declan Roche Dancing Main Hall
DESCRIPTION:Weekly Group
URL:https://cobhcommunitycentre.ie/event/declan-roche-dancing-main-hall-10/
END:VEVENT
BEGIN:VEVENT
DTSTART;TZID=Europe/London:20190411T190000
DTEND;TZID=Europe/London:20190411T200000
DTSTAMP:20260420T155129
CREATED:20190405T114930Z
LAST-MODIFIED:20190405T114930Z
UID:5875-1555009200-1555012800@cobhcommunitycentre.ie
SUMMARY:Cobh Trad Group Rooms 8 & 9
DESCRIPTION:Music Class
URL:https://cobhcommunitycentre.ie/event/cobh-trad-group-rooms-8-9-2/
END:VEVENT
BEGIN:VEVENT
DTSTART;TZID=Europe/London:20190411T183000
DTEND;TZID=Europe/London:20190411T203000
DTSTAMP:20260420T155129
CREATED:20190405T114944Z
LAST-MODIFIED:20190405T114944Z
UID:5907-1555007400-1555014600@cobhcommunitycentre.ie
SUMMARY:Cork School of Judo Room 14
DESCRIPTION:Weekly Group
URL:https://cobhcommunitycentre.ie/event/cork-school-of-judo-room-14-12/
END:VEVENT
BEGIN:VEVENT
DTSTART;TZID=Europe/London:20190411T180000
DTEND;TZID=Europe/London:20190411T200000
DTSTAMP:20260420T155129
CREATED:20190403T151140Z
LAST-MODIFIED:20190403T151140Z
UID:5737-1555005600-1555012800@cobhcommunitycentre.ie
SUMMARY:Cowhie - Ryan Irish Dancing Rooms 8 & 9
DESCRIPTION:Weekly Group
URL:https://cobhcommunitycentre.ie/event/cowhie-ryan-irish-dancing-rooms-8-9-10/
END:VEVENT
BEGIN:VEVENT
DTSTART;TZID=Europe/London:20190411T170000
DTEND;TZID=Europe/London:20190411T210000
DTSTAMP:20260420T155129
CREATED:20190405T114954Z
LAST-MODIFIED:20190405T114954Z
UID:5933-1555002000-1555016400@cobhcommunitycentre.ie
SUMMARY:Rosewood Grove Room 10
DESCRIPTION:Weekly Group
URL:https://cobhcommunitycentre.ie/event/rosewood-grove-room-10-15/
END:VEVENT
BEGIN:VEVENT
DTSTART;TZID=Europe/London:20190411T170000
DTEND;TZID=Europe/London:20190411T180000
DTSTAMP:20260420T155129
CREATED:20190404T144129Z
LAST-MODIFIED:20190404T144129Z
UID:5811-1555002000-1555005600@cobhcommunitycentre.ie
SUMMARY:Pop + Rock Choir Room 14
DESCRIPTION:Weekly Group
URL:https://cobhcommunitycentre.ie/event/pop-rock-choir-room-14-10/
END:VEVENT
BEGIN:VEVENT
DTSTART;TZID=Europe/London:20190411T163000
DTEND;TZID=Europe/London:20190411T184500
DTSTAMP:20260420T155129
CREATED:20190405T114952Z
LAST-MODIFIED:20190405T114952Z
UID:5926-1555000200-1555008300@cobhcommunitycentre.ie
SUMMARY:Irish Girl Guides St. Colman's Wing 1 & 2
DESCRIPTION:Weekly Group
URL:https://cobhcommunitycentre.ie/event/irish-girl-guides-st-colmans-wing-1-2-106/
END:VEVENT
BEGIN:VEVENT
DTSTART;TZID=Europe/London:20190411T140000
DTEND;TZID=Europe/London:20190411T163000
DTSTAMP:20260420T155129
CREATED:20190404T144119Z
LAST-MODIFIED:20190405T114925Z
UID:5787-1554991200-1555000200@cobhcommunitycentre.ie
SUMMARY:Bridge Cards Group Rooms 8 & 9
DESCRIPTION:Weekly Group
URL:https://cobhcommunitycentre.ie/event/bridge-cards-group-rooms-8-9-10/
END:VEVENT
BEGIN:VEVENT
DTSTART;TZID=Europe/London:20190411T134000
DTEND;TZID=Europe/London:20190411T154000
DTSTAMP:20260420T155129
CREATED:20190404T144108Z
LAST-MODIFIED:20190404T144108Z
UID:5757-1554990000-1554997200@cobhcommunitycentre.ie
SUMMARY:Cobh Children's Theatre Main Hall
DESCRIPTION:Drama Class
URL:https://cobhcommunitycentre.ie/event/cobh-childrens-theatre-main-hall-9/
END:VEVENT
BEGIN:VEVENT
DTSTART;TZID=Europe/London:20190411T121500
DTEND;TZID=Europe/London:20190411T131500
DTSTAMP:20260420T155129
CREATED:20190405T114942Z
LAST-MODIFIED:20190405T114942Z
UID:5901-1554984900-1554988500@cobhcommunitycentre.ie
SUMMARY:Swels Yoga St. Colman's Wing 1
DESCRIPTION:Weekly Group
URL:https://cobhcommunitycentre.ie/event/swels-yoga-st-colmans-wing-1-6/
END:VEVENT
BEGIN:VEVENT
DTSTART;TZID=Europe/London:20190411T110000
DTEND;TZID=Europe/London:20190411T120000
DTSTAMP:20260420T155129
CREATED:20190405T114939Z
LAST-MODIFIED:20190405T114939Z
UID:5897-1554980400-1554984000@cobhcommunitycentre.ie
SUMMARY:Swels Cards Room 13
DESCRIPTION:Weekly Group
URL:https://cobhcommunitycentre.ie/event/swels-cards-room-13-6/
END:VEVENT
BEGIN:VEVENT
DTSTART;TZID=Europe/London:20190411T100000
DTEND;TZID=Europe/London:20190411T110000
DTSTAMP:20260420T155129
CREATED:20190404T144136Z
LAST-MODIFIED:20190404T144136Z
UID:5828-1554976800-1554980400@cobhcommunitycentre.ie
SUMMARY:Activator Poles Walking Course Main Hall
DESCRIPTION:Weekly Group
URL:https://cobhcommunitycentre.ie/event/activator-poles-walking-course-main-hall-6/
END:VEVENT
BEGIN:VEVENT
DTSTART;TZID=Europe/London:20190411T090000
DTEND;TZID=Europe/London:20190411T100000
DTSTAMP:20260420T155129
CREATED:20190405T114950Z
LAST-MODIFIED:20190405T114950Z
UID:5920-1554973200-1554976800@cobhcommunitycentre.ie
SUMMARY:Carmel O'Regan Fitness St.Colman's Wing 1
DESCRIPTION:Pilates
URL:https://cobhcommunitycentre.ie/event/carmel-oregan-fitness-st-colmans-wing-1-13/
END:VEVENT
BEGIN:VEVENT
DTSTART;TZID=Europe/London:20190410T193000
DTEND;TZID=Europe/London:20190410T203000
DTSTAMP:20260420T155129
CREATED:20190405T114929Z
LAST-MODIFIED:20190405T114929Z
UID:5873-1554924600-1554928200@cobhcommunitycentre.ie
SUMMARY:Sinead Sheppard Dance Room 14
DESCRIPTION:Dance Class
URL:https://cobhcommunitycentre.ie/event/sinead-sheppard-dance-room-14-2/
END:VEVENT
BEGIN:VEVENT
DTSTART;TZID=Europe/London:20190410T190000
DTEND;TZID=Europe/London:20190410T210000
DTSTAMP:20260420T155129
CREATED:20190404T144119Z
LAST-MODIFIED:20190405T114925Z
UID:5783-1554922800-1554930000@cobhcommunitycentre.ie
SUMMARY:Fencing Class Main Hall
DESCRIPTION:Weekly Group
URL:https://cobhcommunitycentre.ie/event/fencing-class-main-hall-10/
END:VEVENT
BEGIN:VEVENT
DTSTART;TZID=Europe/London:20190410T173000
DTEND;TZID=Europe/London:20190410T183000
DTSTAMP:20260420T155129
CREATED:20190404T144111Z
LAST-MODIFIED:20190405T114919Z
UID:5759-1554917400-1554921000@cobhcommunitycentre.ie
SUMMARY:Cobh Basketball Dwayne Main Hall
DESCRIPTION:Weekly Group
URL:https://cobhcommunitycentre.ie/event/cobh-basketball-dwayne-main-hall-10/
END:VEVENT
BEGIN:VEVENT
DTSTART;TZID=Europe/London:20190410T163000
DTEND;TZID=Europe/London:20190410T190000
DTSTAMP:20260420T155129
CREATED:20190403T151140Z
LAST-MODIFIED:20190403T151140Z
UID:5736-1554913800-1554922800@cobhcommunitycentre.ie
SUMMARY:Cowhie - Ryan Irish Dancing Room 14
DESCRIPTION:Weekly Group
URL:https://cobhcommunitycentre.ie/event/cowhie-ryan-irish-dancing-room-14-10/
END:VEVENT
BEGIN:VEVENT
DTSTART;TZID=Europe/London:20190410T153000
DTEND;TZID=Europe/London:20190410T193000
DTSTAMP:20260420T155129
CREATED:20190404T144108Z
LAST-MODIFIED:20190404T144108Z
UID:5754-1554910200-1554924600@cobhcommunitycentre.ie
SUMMARY:Sarah Callanan St.Colman's Wing 1
DESCRIPTION:School of Ballet
URL:https://cobhcommunitycentre.ie/event/sarah-callanan-st-colmans-wing-1-10/
END:VEVENT
BEGIN:VEVENT
DTSTART;TZID=Europe/London:20190410T144500
DTEND;TZID=Europe/London:20190410T164500
DTSTAMP:20260420T155129
CREATED:20190404T144126Z
LAST-MODIFIED:20190404T144126Z
UID:5803-1554907500-1554914700@cobhcommunitycentre.ie
SUMMARY:Footprints Rooms 8 & 9
DESCRIPTION:Autism and SPD Friendship/Social Group
URL:https://cobhcommunitycentre.ie/event/footprints-rooms-8-9-10/
END:VEVENT
BEGIN:VEVENT
DTSTART;TZID=Europe/London:20190410T111500
DTEND;TZID=Europe/London:20190410T121500
DTSTAMP:20260420T155129
CREATED:20190405T114935Z
LAST-MODIFIED:20190405T114935Z
UID:5888-1554894900-1554898500@cobhcommunitycentre.ie
SUMMARY:Swels Fit Walk Main Hall
DESCRIPTION:Weekly Group
URL:https://cobhcommunitycentre.ie/event/swels-fit-walk-main-hall-6/
END:VEVENT
BEGIN:VEVENT
DTSTART;TZID=Europe/London:20190409T200000
DTEND;TZID=Europe/London:20190409T210000
DTSTAMP:20260420T155129
CREATED:20190405T114948Z
LAST-MODIFIED:20190405T114948Z
UID:5917-1554840000-1554843600@cobhcommunitycentre.ie
SUMMARY:Carmel O'Regan Fitness St.Colman's Wing 1
DESCRIPTION:Pilates
URL:https://cobhcommunitycentre.ie/event/carmel-oregan-fitness-st-colmans-wing-1-10/
END:VEVENT
BEGIN:VEVENT
DTSTART;TZID=Europe/London:20190409T180000
DTEND;TZID=Europe/London:20190409T220000
DTSTAMP:20260420T155129
CREATED:20190405T114944Z
LAST-MODIFIED:20190405T114944Z
UID:5906-1554832800-1554847200@cobhcommunitycentre.ie
SUMMARY:Cork School of Judo Room 14
DESCRIPTION:Weekly Group
URL:https://cobhcommunitycentre.ie/event/cork-school-of-judo-room-14-11/
END:VEVENT
BEGIN:VEVENT
DTSTART;TZID=Europe/London:20190409T164500
DTEND;TZID=Europe/London:20190409T174500
DTSTAMP:20260420T155129
CREATED:20190405T114916Z
LAST-MODIFIED:20190405T114916Z
UID:5840-1554828300-1554831900@cobhcommunitycentre.ie
SUMMARY:Cobh Youth Services Main Hall
DESCRIPTION:Weekly Group
URL:https://cobhcommunitycentre.ie/event/cobh-youth-services-main-hall-13/
END:VEVENT
BEGIN:VEVENT
DTSTART;TZID=Europe/London:20190409T150000
DTEND;TZID=Europe/London:20190409T160000
DTSTAMP:20260420T155129
CREATED:20190405T114933Z
LAST-MODIFIED:20190405T114933Z
UID:5883-1554822000-1554825600@cobhcommunitycentre.ie
SUMMARY:Swels Dance Class St. Colman's Wing 1
DESCRIPTION:Weekly Group
URL:https://cobhcommunitycentre.ie/event/swels-dance-class-st-colmans-wing-1-6/
END:VEVENT
BEGIN:VEVENT
DTSTART;TZID=Europe/London:20190409T110000
DTEND;TZID=Europe/London:20190409T120000
DTSTAMP:20260420T155129
CREATED:20190405T114937Z
LAST-MODIFIED:20190405T114937Z
UID:5892-1554807600-1554811200@cobhcommunitycentre.ie
SUMMARY:Swels Singing St. Colman's Wing 1
DESCRIPTION:Weekly Group
URL:https://cobhcommunitycentre.ie/event/swels-singing-st-colmans-wing-1-6/
END:VEVENT
BEGIN:VEVENT
DTSTART;TZID=Europe/London:20190408T200000
DTEND;TZID=Europe/London:20190408T210000
DTSTAMP:20260420T155129
CREATED:20190404T144128Z
LAST-MODIFIED:20190405T114928Z
UID:5809-1554753600-1554757200@cobhcommunitycentre.ie
SUMMARY:Cobh Triathlon Club Rooms 8 & 9
DESCRIPTION:Every Monday
URL:https://cobhcommunitycentre.ie/event/cobh-triathlon-club-rooms-8-9-9/
END:VEVENT
BEGIN:VEVENT
DTSTART;TZID=Europe/London:20190408T200000
DTEND;TZID=Europe/London:20190408T204500
DTSTAMP:20260420T155129
CREATED:20190405T114948Z
LAST-MODIFIED:20190405T114948Z
UID:5914-1554753600-1554756300@cobhcommunitycentre.ie
SUMMARY:Carmel O'Regan Fitness Room 13
DESCRIPTION:Step & Tone
URL:https://cobhcommunitycentre.ie/event/carmel-oregan-fitness-room-13-6/
END:VEVENT
BEGIN:VEVENT
DTSTART;TZID=Europe/London:20190408T180000
DTEND;TZID=Europe/London:20190408T190000
DTSTAMP:20260420T155129
CREATED:20190403T151134Z
LAST-MODIFIED:20190405T114919Z
UID:5719-1554746400-1554750000@cobhcommunitycentre.ie
SUMMARY:Cobh Girls Basketball Cathy Main Hall
DESCRIPTION:Weekly Basketball
URL:https://cobhcommunitycentre.ie/event/cobh-girls-basketball-cathy-main-hall-10/
END:VEVENT
BEGIN:VEVENT
DTSTART;TZID=Europe/London:20190408T170000
DTEND;TZID=Europe/London:20190408T210000
DTSTAMP:20260420T155129
CREATED:20190405T114954Z
LAST-MODIFIED:20190405T114954Z
UID:5932-1554742800-1554757200@cobhcommunitycentre.ie
SUMMARY:Rosewood Grove Room 10
DESCRIPTION:Weekly Group
URL:https://cobhcommunitycentre.ie/event/rosewood-grove-room-10-14/
END:VEVENT
BEGIN:VEVENT
DTSTART;TZID=Europe/London:20190408T170000
DTEND;TZID=Europe/London:20190408T180000
DTSTAMP:20260420T155129
CREATED:20190403T151132Z
LAST-MODIFIED:20190405T114916Z
UID:5714-1554742800-1554746400@cobhcommunitycentre.ie
SUMMARY:Cobh Basketball Club Dominic Main Hall
DESCRIPTION:Weekly Basketball
URL:https://cobhcommunitycentre.ie/event/cobh-basketball-club-dominic-main-hall-10/
END:VEVENT
END:VCALENDAR