BEGIN:VCALENDAR
VERSION:2.0
PRODID:-//Cobh Great Island Community Centre - ECPv6.11.1//NONSGML v1.0//EN
CALSCALE:GREGORIAN
METHOD:PUBLISH
X-WR-CALNAME:Cobh Great Island Community Centre
X-ORIGINAL-URL:https://cobhcommunitycentre.ie
X-WR-CALDESC:Events for Cobh Great Island Community Centre
REFRESH-INTERVAL;VALUE=DURATION:PT1H
X-Robots-Tag:noindex
X-PUBLISHED-TTL:PT1H
BEGIN:VTIMEZONE
TZID:Europe/London
BEGIN:DAYLIGHT
TZOFFSETFROM:+0000
TZOFFSETTO:+0100
TZNAME:BST
DTSTART:20190331T010000
END:DAYLIGHT
BEGIN:STANDARD
TZOFFSETFROM:+0100
TZOFFSETTO:+0000
TZNAME:GMT
DTSTART:20191027T010000
END:STANDARD
END:VTIMEZONE
BEGIN:VEVENT
DTSTART;TZID=Europe/London:20190406T090000
DTEND;TZID=Europe/London:20190406T170000
DTSTAMP:20260420T211158
CREATED:20190405T114954Z
LAST-MODIFIED:20190405T114954Z
UID:5931-1554541200-1554570000@cobhcommunitycentre.ie
SUMMARY:Rosewood Grove Room 14
DESCRIPTION:Weekly Group
URL:https://cobhcommunitycentre.ie/event/rosewood-grove-room-14-5/
END:VEVENT
BEGIN:VEVENT
DTSTART;TZID=Europe/London:20190406T083000
DTEND;TZID=Europe/London:20190406T123000
DTSTAMP:20260420T211158
CREATED:20190404T144123Z
LAST-MODIFIED:20190404T144123Z
UID:5794-1554539400-1554553800@cobhcommunitycentre.ie
SUMMARY:Slimming World Rooms 8 & 9
DESCRIPTION:Weekly Group
URL:https://cobhcommunitycentre.ie/event/slimming-world-rooms-8-9-9/
END:VEVENT
BEGIN:VEVENT
DTSTART;TZID=Europe/London:20190405T201500
DTEND;TZID=Europe/London:20190405T221500
DTSTAMP:20260420T211158
CREATED:20190403T151138Z
LAST-MODIFIED:20190403T151138Z
UID:5730-1554495300-1554502500@cobhcommunitycentre.ie
SUMMARY:Bingo Main Hall
DESCRIPTION:Every Friday Night
URL:https://cobhcommunitycentre.ie/event/bingo-main-hall-9/
END:VEVENT
BEGIN:VEVENT
DTSTART;TZID=Europe/London:20190405T193000
DTEND;TZID=Europe/London:20190405T223000
DTSTAMP:20260420T211158
CREATED:20190404T144111Z
LAST-MODIFIED:20190405T114919Z
UID:5760-1554492600-1554503400@cobhcommunitycentre.ie
SUMMARY:Cobh Gramophone Society Rooms 8 & 9
DESCRIPTION:Weekly Group
URL:https://cobhcommunitycentre.ie/event/cobh-gramophone-society-rooms-8-9-9/
END:VEVENT
BEGIN:VEVENT
DTSTART;TZID=Europe/London:20190405T180000
DTEND;TZID=Europe/London:20190405T201500
DTSTAMP:20260420T211158
CREATED:20190405T114950Z
LAST-MODIFIED:20190405T114950Z
UID:5923-1554487200-1554495300@cobhcommunitycentre.ie
SUMMARY:Irish Girl Guides St. Colman's Wing 1 & 2
DESCRIPTION:Weekly Group
URL:https://cobhcommunitycentre.ie/event/irish-girl-guides-st-colmans-wing-1-2-103/
END:VEVENT
BEGIN:VEVENT
DTSTART;TZID=Europe/London:20190405T170000
DTEND;TZID=Europe/London:20190405T203000
DTSTAMP:20260420T211158
CREATED:20190404T144120Z
LAST-MODIFIED:20190404T144120Z
UID:5790-1554483600-1554496200@cobhcommunitycentre.ie
SUMMARY:Red Cross Cobh Branch Room 14
DESCRIPTION:Weekly Group
URL:https://cobhcommunitycentre.ie/event/red-cross-cobh-branch-room-14-9/
END:VEVENT
BEGIN:VEVENT
DTSTART;TZID=Europe/London:20190405T121500
DTEND;TZID=Europe/London:20190405T131500
DTSTAMP:20260420T211158
CREATED:20190404T144130Z
LAST-MODIFIED:20190404T144130Z
UID:5814-1554466500-1554470100@cobhcommunitycentre.ie
SUMMARY:Cork Sports Partnership with Trevor x8 Weeks Main Hall
DESCRIPTION:Fridays
URL:https://cobhcommunitycentre.ie/event/cork-sports-partnership-with-trevor-x8-weeks-main-hall/
END:VEVENT
BEGIN:VEVENT
DTSTART;TZID=Europe/London:20190405T103000
DTEND;TZID=Europe/London:20190405T123000
DTSTAMP:20260420T211158
CREATED:20190404T144132Z
LAST-MODIFIED:20190404T144132Z
UID:5818-1554460200-1554467400@cobhcommunitycentre.ie
SUMMARY:Swels Art Class Rooms 8 & 9
DESCRIPTION:Fridays except last Friday of the month
URL:https://cobhcommunitycentre.ie/event/swels-art-class-rooms-8-9-7/
END:VEVENT
BEGIN:VEVENT
DTSTART;TZID=Europe/London:20190404T203000
DTEND;TZID=Europe/London:20190404T213000
DTSTAMP:20260420T211158
CREATED:20190404T144117Z
LAST-MODIFIED:20190404T144117Z
UID:5778-1554409800-1554413400@cobhcommunitycentre.ie
SUMMARY:Cobh Korean Kickboxing Club Room 14
DESCRIPTION:Weekly Group
URL:https://cobhcommunitycentre.ie/event/cobh-korean-kickboxing-club-room-14-9/
END:VEVENT
BEGIN:VEVENT
DTSTART;TZID=Europe/London:20190404T200000
DTEND;TZID=Europe/London:20190404T210000
DTSTAMP:20260420T211158
CREATED:20190405T114931Z
LAST-MODIFIED:20190405T114931Z
UID:5878-1554408000-1554411600@cobhcommunitycentre.ie
SUMMARY:Vincent O'Rourke
DESCRIPTION:Guitar Class
URL:https://cobhcommunitycentre.ie/event/vincent-orourke/
END:VEVENT
BEGIN:VEVENT
DTSTART;TZID=Europe/London:20190404T193000
DTEND;TZID=Europe/London:20190404T213000
DTSTAMP:20260420T211158
CREATED:20190404T144114Z
LAST-MODIFIED:20190405T114923Z
UID:5770-1554406200-1554413400@cobhcommunitycentre.ie
SUMMARY:Declan Roche Dancing Main Hall
DESCRIPTION:Weekly Group
URL:https://cobhcommunitycentre.ie/event/declan-roche-dancing-main-hall-9/
END:VEVENT
BEGIN:VEVENT
DTSTART;TZID=Europe/London:20190404T193000
DTEND;TZID=Europe/London:20190404T210000
DTSTAMP:20260420T211158
CREATED:20190404T144114Z
LAST-MODIFIED:20190404T144114Z
UID:5768-1554406200-1554411600@cobhcommunitycentre.ie
SUMMARY:Lions Club Meeting Room 7
DESCRIPTION:(First Thurs of each month)
URL:https://cobhcommunitycentre.ie/event/lions-club-meeting-room-7-3/
END:VEVENT
BEGIN:VEVENT
DTSTART;TZID=Europe/London:20190404T190000
DTEND;TZID=Europe/London:20190404T200000
DTSTAMP:20260420T211158
CREATED:20190405T114930Z
LAST-MODIFIED:20190405T114930Z
UID:5874-1554404400-1554408000@cobhcommunitycentre.ie
SUMMARY:Cobh Trad Group Rooms 8 & 9
DESCRIPTION:Music Class
URL:https://cobhcommunitycentre.ie/event/cobh-trad-group-rooms-8-9/
END:VEVENT
BEGIN:VEVENT
DTSTART;TZID=Europe/London:20190404T183000
DTEND;TZID=Europe/London:20190404T203000
DTSTAMP:20260420T211158
CREATED:20190405T114944Z
LAST-MODIFIED:20190405T114944Z
UID:5905-1554402600-1554409800@cobhcommunitycentre.ie
SUMMARY:Cork School of Judo Room 14
DESCRIPTION:Weekly Group
URL:https://cobhcommunitycentre.ie/event/cork-school-of-judo-room-14-10/
END:VEVENT
BEGIN:VEVENT
DTSTART;TZID=Europe/London:20190404T180000
DTEND;TZID=Europe/London:20190404T200000
DTSTAMP:20260420T211158
CREATED:20190403T151140Z
LAST-MODIFIED:20190403T151140Z
UID:5735-1554400800-1554408000@cobhcommunitycentre.ie
SUMMARY:Cowhie - Ryan Irish Dancing Rooms 8 & 9
DESCRIPTION:Weekly Group
URL:https://cobhcommunitycentre.ie/event/cowhie-ryan-irish-dancing-rooms-8-9-9/
END:VEVENT
BEGIN:VEVENT
DTSTART;TZID=Europe/London:20190404T170000
DTEND;TZID=Europe/London:20190404T210000
DTSTAMP:20260420T211158
CREATED:20190405T114954Z
LAST-MODIFIED:20190405T114954Z
UID:5930-1554397200-1554411600@cobhcommunitycentre.ie
SUMMARY:Rosewood Grove Room 10
DESCRIPTION:Weekly Group
URL:https://cobhcommunitycentre.ie/event/rosewood-grove-room-10-13/
END:VEVENT
BEGIN:VEVENT
DTSTART;TZID=Europe/London:20190404T170000
DTEND;TZID=Europe/London:20190404T180000
DTSTAMP:20260420T211158
CREATED:20190404T144129Z
LAST-MODIFIED:20190404T144129Z
UID:5810-1554397200-1554400800@cobhcommunitycentre.ie
SUMMARY:Pop + Rock Choir Room 14
DESCRIPTION:Weekly Group
URL:https://cobhcommunitycentre.ie/event/pop-rock-choir-room-14-9/
END:VEVENT
BEGIN:VEVENT
DTSTART;TZID=Europe/London:20190404T163000
DTEND;TZID=Europe/London:20190404T184500
DTSTAMP:20260420T211158
CREATED:20190405T114950Z
LAST-MODIFIED:20190405T114950Z
UID:5922-1554395400-1554403500@cobhcommunitycentre.ie
SUMMARY:Irish Girl Guides St. Colman's Wing 1 & 2
DESCRIPTION:Weekly Group
URL:https://cobhcommunitycentre.ie/event/irish-girl-guides-st-colmans-wing-1-2-102/
END:VEVENT
BEGIN:VEVENT
DTSTART;TZID=Europe/London:20190404T140000
DTEND;TZID=Europe/London:20190404T163000
DTSTAMP:20260420T211158
CREATED:20190404T144119Z
LAST-MODIFIED:20190405T114925Z
UID:5786-1554386400-1554395400@cobhcommunitycentre.ie
SUMMARY:Bridge Cards Group Rooms 8 & 9
DESCRIPTION:Weekly Group
URL:https://cobhcommunitycentre.ie/event/bridge-cards-group-rooms-8-9-9/
END:VEVENT
BEGIN:VEVENT
DTSTART;TZID=Europe/London:20190404T134000
DTEND;TZID=Europe/London:20190404T154000
DTSTAMP:20260420T211158
CREATED:20190404T144108Z
LAST-MODIFIED:20190404T144108Z
UID:5756-1554385200-1554392400@cobhcommunitycentre.ie
SUMMARY:Cobh Children's Theatre Main Hall
DESCRIPTION:Drama Class
URL:https://cobhcommunitycentre.ie/event/cobh-childrens-theatre-main-hall-8/
END:VEVENT
BEGIN:VEVENT
DTSTART;TZID=Europe/London:20190404T121500
DTEND;TZID=Europe/London:20190404T131500
DTSTAMP:20260420T211158
CREATED:20190405T114941Z
LAST-MODIFIED:20190405T114941Z
UID:5900-1554380100-1554383700@cobhcommunitycentre.ie
SUMMARY:Swels Yoga St. Colman's Wing 1
DESCRIPTION:Weekly Group
URL:https://cobhcommunitycentre.ie/event/swels-yoga-st-colmans-wing-1-5/
END:VEVENT
BEGIN:VEVENT
DTSTART;TZID=Europe/London:20190404T110000
DTEND;TZID=Europe/London:20190404T120000
DTSTAMP:20260420T211158
CREATED:20190405T114939Z
LAST-MODIFIED:20190405T114939Z
UID:5896-1554375600-1554379200@cobhcommunitycentre.ie
SUMMARY:Swels Cards Room 13
DESCRIPTION:Weekly Group
URL:https://cobhcommunitycentre.ie/event/swels-cards-room-13-5/
END:VEVENT
BEGIN:VEVENT
DTSTART;TZID=Europe/London:20190404T100000
DTEND;TZID=Europe/London:20190404T110000
DTSTAMP:20260420T211158
CREATED:20190404T144135Z
LAST-MODIFIED:20190404T144135Z
UID:5827-1554372000-1554375600@cobhcommunitycentre.ie
SUMMARY:Activator Poles Walking Course Main Hall
DESCRIPTION:Weekly Group
URL:https://cobhcommunitycentre.ie/event/activator-poles-walking-course-main-hall-5/
END:VEVENT
BEGIN:VEVENT
DTSTART;TZID=Europe/London:20190404T090000
DTEND;TZID=Europe/London:20190404T100000
DTSTAMP:20260420T211158
CREATED:20190405T114950Z
LAST-MODIFIED:20190405T114950Z
UID:5919-1554368400-1554372000@cobhcommunitycentre.ie
SUMMARY:Carmel O'Regan Fitness St.Colman's Wing 1
DESCRIPTION:Pilates
URL:https://cobhcommunitycentre.ie/event/carmel-oregan-fitness-st-colmans-wing-1-12/
END:VEVENT
BEGIN:VEVENT
DTSTART;TZID=Europe/London:20190403T193000
DTEND;TZID=Europe/London:20190403T203000
DTSTAMP:20260420T211158
CREATED:20190405T114928Z
LAST-MODIFIED:20190405T114928Z
UID:5872-1554319800-1554323400@cobhcommunitycentre.ie
SUMMARY:Sinead Sheppard Dance Room 14
DESCRIPTION:Dance Class
URL:https://cobhcommunitycentre.ie/event/sinead-sheppard-dance-room-14/
END:VEVENT
BEGIN:VEVENT
DTSTART;TZID=Europe/London:20190403T190000
DTEND;TZID=Europe/London:20190403T210000
DTSTAMP:20260420T211158
CREATED:20190404T144117Z
LAST-MODIFIED:20190405T114923Z
UID:5782-1554318000-1554325200@cobhcommunitycentre.ie
SUMMARY:Fencing Class Main Hall
DESCRIPTION:Weekly Group
URL:https://cobhcommunitycentre.ie/event/fencing-class-main-hall-9/
END:VEVENT
BEGIN:VEVENT
DTSTART;TZID=Europe/London:20190403T173000
DTEND;TZID=Europe/London:20190403T183000
DTSTAMP:20260420T211158
CREATED:20190404T144110Z
LAST-MODIFIED:20190405T114919Z
UID:5758-1554312600-1554316200@cobhcommunitycentre.ie
SUMMARY:Cobh Basketball Dwayne Main Hall
DESCRIPTION:Weekly Group
URL:https://cobhcommunitycentre.ie/event/cobh-basketball-dwayne-main-hall-9/
END:VEVENT
BEGIN:VEVENT
DTSTART;TZID=Europe/London:20190403T163000
DTEND;TZID=Europe/London:20190403T190000
DTSTAMP:20260420T211158
CREATED:20190403T151140Z
LAST-MODIFIED:20190403T151140Z
UID:5734-1554309000-1554318000@cobhcommunitycentre.ie
SUMMARY:Cowhie - Ryan Irish Dancing Room 14
DESCRIPTION:Weekly Group
URL:https://cobhcommunitycentre.ie/event/cowhie-ryan-irish-dancing-room-14-9/
END:VEVENT
BEGIN:VEVENT
DTSTART;TZID=Europe/London:20190403T153000
DTEND;TZID=Europe/London:20190403T193000
DTSTAMP:20260420T211158
CREATED:20190404T144108Z
LAST-MODIFIED:20190404T144108Z
UID:5753-1554305400-1554319800@cobhcommunitycentre.ie
SUMMARY:Sarah Callanan St.Colman's Wing 1
DESCRIPTION:School of Ballet
URL:https://cobhcommunitycentre.ie/event/sarah-callanan-st-colmans-wing-1-9/
END:VEVENT
BEGIN:VEVENT
DTSTART;TZID=Europe/London:20190403T144500
DTEND;TZID=Europe/London:20190403T164500
DTSTAMP:20260420T211158
CREATED:20190404T144125Z
LAST-MODIFIED:20190404T144125Z
UID:5802-1554302700-1554309900@cobhcommunitycentre.ie
SUMMARY:Footprints Rooms 8 & 9
DESCRIPTION:Autism and SPD Friendship/Social Group
URL:https://cobhcommunitycentre.ie/event/footprints-rooms-8-9-9/
END:VEVENT
END:VCALENDAR