BEGIN:VCALENDAR
VERSION:2.0
PRODID:-//Cobh Great Island Community Centre - ECPv6.11.1//NONSGML v1.0//EN
CALSCALE:GREGORIAN
METHOD:PUBLISH
X-ORIGINAL-URL:https://cobhcommunitycentre.ie
X-WR-CALDESC:Events for Cobh Great Island Community Centre
REFRESH-INTERVAL;VALUE=DURATION:PT1H
X-Robots-Tag:noindex
X-PUBLISHED-TTL:PT1H
BEGIN:VTIMEZONE
TZID:Europe/London
BEGIN:DAYLIGHT
TZOFFSETFROM:+0000
TZOFFSETTO:+0100
TZNAME:BST
DTSTART:20190331T010000
END:DAYLIGHT
BEGIN:STANDARD
TZOFFSETFROM:+0100
TZOFFSETTO:+0000
TZNAME:GMT
DTSTART:20191027T010000
END:STANDARD
END:VTIMEZONE
BEGIN:VEVENT
DTSTART;TZID=Europe/London:20190404T121500
DTEND;TZID=Europe/London:20190404T131500
DTSTAMP:20260420T234405
CREATED:20190405T114941Z
LAST-MODIFIED:20190405T114941Z
UID:5900-1554380100-1554383700@cobhcommunitycentre.ie
SUMMARY:Swels Yoga St. Colman's Wing 1
DESCRIPTION:Weekly Group
URL:https://cobhcommunitycentre.ie/event/swels-yoga-st-colmans-wing-1-5/
END:VEVENT
BEGIN:VEVENT
DTSTART;TZID=Europe/London:20190404T110000
DTEND;TZID=Europe/London:20190404T120000
DTSTAMP:20260420T234405
CREATED:20190405T114939Z
LAST-MODIFIED:20190405T114939Z
UID:5896-1554375600-1554379200@cobhcommunitycentre.ie
SUMMARY:Swels Cards Room 13
DESCRIPTION:Weekly Group
URL:https://cobhcommunitycentre.ie/event/swels-cards-room-13-5/
END:VEVENT
BEGIN:VEVENT
DTSTART;TZID=Europe/London:20190404T100000
DTEND;TZID=Europe/London:20190404T110000
DTSTAMP:20260420T234405
CREATED:20190404T144135Z
LAST-MODIFIED:20190404T144135Z
UID:5827-1554372000-1554375600@cobhcommunitycentre.ie
SUMMARY:Activator Poles Walking Course Main Hall
DESCRIPTION:Weekly Group
URL:https://cobhcommunitycentre.ie/event/activator-poles-walking-course-main-hall-5/
END:VEVENT
BEGIN:VEVENT
DTSTART;TZID=Europe/London:20190404T090000
DTEND;TZID=Europe/London:20190404T100000
DTSTAMP:20260420T234405
CREATED:20190405T114950Z
LAST-MODIFIED:20190405T114950Z
UID:5919-1554368400-1554372000@cobhcommunitycentre.ie
SUMMARY:Carmel O'Regan Fitness St.Colman's Wing 1
DESCRIPTION:Pilates
URL:https://cobhcommunitycentre.ie/event/carmel-oregan-fitness-st-colmans-wing-1-12/
END:VEVENT
BEGIN:VEVENT
DTSTART;TZID=Europe/London:20190403T193000
DTEND;TZID=Europe/London:20190403T203000
DTSTAMP:20260420T234405
CREATED:20190405T114928Z
LAST-MODIFIED:20190405T114928Z
UID:5872-1554319800-1554323400@cobhcommunitycentre.ie
SUMMARY:Sinead Sheppard Dance Room 14
DESCRIPTION:Dance Class
URL:https://cobhcommunitycentre.ie/event/sinead-sheppard-dance-room-14/
END:VEVENT
BEGIN:VEVENT
DTSTART;TZID=Europe/London:20190403T190000
DTEND;TZID=Europe/London:20190403T210000
DTSTAMP:20260420T234405
CREATED:20190404T144117Z
LAST-MODIFIED:20190405T114923Z
UID:5782-1554318000-1554325200@cobhcommunitycentre.ie
SUMMARY:Fencing Class Main Hall
DESCRIPTION:Weekly Group
URL:https://cobhcommunitycentre.ie/event/fencing-class-main-hall-9/
END:VEVENT
BEGIN:VEVENT
DTSTART;TZID=Europe/London:20190403T173000
DTEND;TZID=Europe/London:20190403T183000
DTSTAMP:20260420T234405
CREATED:20190404T144110Z
LAST-MODIFIED:20190405T114919Z
UID:5758-1554312600-1554316200@cobhcommunitycentre.ie
SUMMARY:Cobh Basketball Dwayne Main Hall
DESCRIPTION:Weekly Group
URL:https://cobhcommunitycentre.ie/event/cobh-basketball-dwayne-main-hall-9/
END:VEVENT
BEGIN:VEVENT
DTSTART;TZID=Europe/London:20190403T163000
DTEND;TZID=Europe/London:20190403T190000
DTSTAMP:20260420T234405
CREATED:20190403T151140Z
LAST-MODIFIED:20190403T151140Z
UID:5734-1554309000-1554318000@cobhcommunitycentre.ie
SUMMARY:Cowhie - Ryan Irish Dancing Room 14
DESCRIPTION:Weekly Group
URL:https://cobhcommunitycentre.ie/event/cowhie-ryan-irish-dancing-room-14-9/
END:VEVENT
BEGIN:VEVENT
DTSTART;TZID=Europe/London:20190403T153000
DTEND;TZID=Europe/London:20190403T193000
DTSTAMP:20260420T234405
CREATED:20190404T144108Z
LAST-MODIFIED:20190404T144108Z
UID:5753-1554305400-1554319800@cobhcommunitycentre.ie
SUMMARY:Sarah Callanan St.Colman's Wing 1
DESCRIPTION:School of Ballet
URL:https://cobhcommunitycentre.ie/event/sarah-callanan-st-colmans-wing-1-9/
END:VEVENT
BEGIN:VEVENT
DTSTART;TZID=Europe/London:20190403T144500
DTEND;TZID=Europe/London:20190403T164500
DTSTAMP:20260420T234405
CREATED:20190404T144125Z
LAST-MODIFIED:20190404T144125Z
UID:5802-1554302700-1554309900@cobhcommunitycentre.ie
SUMMARY:Footprints Rooms 8 & 9
DESCRIPTION:Autism and SPD Friendship/Social Group
URL:https://cobhcommunitycentre.ie/event/footprints-rooms-8-9-9/
END:VEVENT
BEGIN:VEVENT
DTSTART;TZID=Europe/London:20190403T111500
DTEND;TZID=Europe/London:20190403T121500
DTSTAMP:20260420T234405
CREATED:20190405T114935Z
LAST-MODIFIED:20190405T114935Z
UID:5887-1554290100-1554293700@cobhcommunitycentre.ie
SUMMARY:Swels Fit Walk Main Hall
DESCRIPTION:Weekly Group
URL:https://cobhcommunitycentre.ie/event/swels-fit-walk-main-hall-5/
END:VEVENT
BEGIN:VEVENT
DTSTART;TZID=Europe/London:20190402T200000
DTEND;TZID=Europe/London:20190402T210000
DTSTAMP:20260420T234405
CREATED:20190405T114948Z
LAST-MODIFIED:20190405T114948Z
UID:5916-1554235200-1554238800@cobhcommunitycentre.ie
SUMMARY:Carmel O'Regan Fitness St.Colman's Wing 1
DESCRIPTION:Pilates
URL:https://cobhcommunitycentre.ie/event/carmel-oregan-fitness-st-colmans-wing-1-9/
END:VEVENT
BEGIN:VEVENT
DTSTART;TZID=Europe/London:20190402T180000
DTEND;TZID=Europe/London:20190402T220000
DTSTAMP:20260420T234405
CREATED:20190405T114944Z
LAST-MODIFIED:20190405T114944Z
UID:5904-1554228000-1554242400@cobhcommunitycentre.ie
SUMMARY:Cork School of Judo Room 14
DESCRIPTION:Weekly Group
URL:https://cobhcommunitycentre.ie/event/cork-school-of-judo-room-14-9/
END:VEVENT
BEGIN:VEVENT
DTSTART;TZID=Europe/London:20190402T164500
DTEND;TZID=Europe/London:20190402T174500
DTSTAMP:20260420T234405
CREATED:20190405T114916Z
LAST-MODIFIED:20190405T114916Z
UID:5839-1554223500-1554227100@cobhcommunitycentre.ie
SUMMARY:Cobh Youth Services Main Hall
DESCRIPTION:Weekly Group
URL:https://cobhcommunitycentre.ie/event/cobh-youth-services-main-hall-12/
END:VEVENT
BEGIN:VEVENT
DTSTART;TZID=Europe/London:20190402T150000
DTEND;TZID=Europe/London:20190402T160000
DTSTAMP:20260420T234405
CREATED:20190405T114932Z
LAST-MODIFIED:20190405T114932Z
UID:5882-1554217200-1554220800@cobhcommunitycentre.ie
SUMMARY:Swels Dance Class St. Colman's Wing 1
DESCRIPTION:Weekly Group
URL:https://cobhcommunitycentre.ie/event/swels-dance-class-st-colmans-wing-1-5/
END:VEVENT
BEGIN:VEVENT
DTSTART;TZID=Europe/London:20190402T110000
DTEND;TZID=Europe/London:20190402T120000
DTSTAMP:20260420T234405
CREATED:20190405T114937Z
LAST-MODIFIED:20190405T114937Z
UID:5891-1554202800-1554206400@cobhcommunitycentre.ie
SUMMARY:Swels Singing St. Colman's Wing 1
DESCRIPTION:Weekly Group
URL:https://cobhcommunitycentre.ie/event/swels-singing-st-colmans-wing-1-5/
END:VEVENT
BEGIN:VEVENT
DTSTART;TZID=Europe/London:20190401T200000
DTEND;TZID=Europe/London:20190401T210000
DTSTAMP:20260420T234405
CREATED:20190404T144128Z
LAST-MODIFIED:20190405T114928Z
UID:5808-1554148800-1554152400@cobhcommunitycentre.ie
SUMMARY:Cobh Triathlon Club Rooms 8 & 9
DESCRIPTION:Every Monday
URL:https://cobhcommunitycentre.ie/event/cobh-triathlon-club-rooms-8-9-8/
END:VEVENT
BEGIN:VEVENT
DTSTART;TZID=Europe/London:20190401T200000
DTEND;TZID=Europe/London:20190401T204500
DTSTAMP:20260420T234405
CREATED:20190405T114946Z
LAST-MODIFIED:20190405T114946Z
UID:5913-1554148800-1554151500@cobhcommunitycentre.ie
SUMMARY:Carmel O'Regan Fitness Room 13
DESCRIPTION:Step & Tone
URL:https://cobhcommunitycentre.ie/event/carmel-oregan-fitness-room-13-5/
END:VEVENT
BEGIN:VEVENT
DTSTART;TZID=Europe/London:20190401T190000
DTEND;TZID=Europe/London:20190401T220000
DTSTAMP:20260420T234405
CREATED:20190403T151144Z
LAST-MODIFIED:20190404T144320Z
UID:5743-1554145200-1554156000@cobhcommunitycentre.ie
SUMMARY:Cobh Flower & Horticulture Club Room 14 (This event takes place one Monday a month\, check with centre re: dates)
DESCRIPTION:Flower Arranging
URL:https://cobhcommunitycentre.ie/event/cobh-flower-horticulture-club-room-14-this-event-takes-place-one-monday-a-month-check-with-centre-re-dates-3/
END:VEVENT
BEGIN:VEVENT
DTSTART;TZID=Europe/London:20190401T180000
DTEND;TZID=Europe/London:20190401T190000
DTSTAMP:20260420T234405
CREATED:20190403T151134Z
LAST-MODIFIED:20190405T114916Z
UID:5718-1554141600-1554145200@cobhcommunitycentre.ie
SUMMARY:Cobh Girls Basketball Cathy Main Hall
DESCRIPTION:Weekly Basketball
URL:https://cobhcommunitycentre.ie/event/cobh-girls-basketball-cathy-main-hall-9/
END:VEVENT
BEGIN:VEVENT
DTSTART;TZID=Europe/London:20190401T170000
DTEND;TZID=Europe/London:20190401T210000
DTSTAMP:20260420T234405
CREATED:20190405T114954Z
LAST-MODIFIED:20190405T114954Z
UID:5929-1554138000-1554152400@cobhcommunitycentre.ie
SUMMARY:Rosewood Grove Room 10
DESCRIPTION:Weekly Group
URL:https://cobhcommunitycentre.ie/event/rosewood-grove-room-10-12/
END:VEVENT
BEGIN:VEVENT
DTSTART;TZID=Europe/London:20190401T170000
DTEND;TZID=Europe/London:20190401T180000
DTSTAMP:20260420T234405
CREATED:20190403T151132Z
LAST-MODIFIED:20190405T114916Z
UID:5713-1554138000-1554141600@cobhcommunitycentre.ie
SUMMARY:Cobh Basketball Club Dominic Main Hall
DESCRIPTION:Weekly Basketball
URL:https://cobhcommunitycentre.ie/event/cobh-basketball-club-dominic-main-hall-9/
END:VEVENT
BEGIN:VEVENT
DTSTART;TZID=Europe/London:20190401T164500
DTEND;TZID=Europe/London:20190401T174500
DTSTAMP:20260420T234405
CREATED:20190403T151136Z
LAST-MODIFIED:20190403T151136Z
UID:5723-1554137100-1554140700@cobhcommunitycentre.ie
SUMMARY:Cobh Youth Services Main Hall
DESCRIPTION:Weekly Group
URL:https://cobhcommunitycentre.ie/event/cobh-youth-services-main-hall-9/
END:VEVENT
BEGIN:VEVENT
DTSTART;TZID=Europe/London:20190401T163000
DTEND;TZID=Europe/London:20190401T213000
DTSTAMP:20260420T234405
CREATED:20190405T114950Z
LAST-MODIFIED:20190405T114950Z
UID:5921-1554136200-1554154200@cobhcommunitycentre.ie
SUMMARY:Irish Girl Guides St. Colman's Wing 1 & 2
DESCRIPTION:Weekly Group
URL:https://cobhcommunitycentre.ie/event/irish-girl-guides-st-colmans-wing-1-2-101/
END:VEVENT
BEGIN:VEVENT
DTSTART;TZID=Europe/London:20190401T154500
DTEND;TZID=Europe/London:20190401T170000
DTSTAMP:20260420T234405
CREATED:20190404T144127Z
LAST-MODIFIED:20190404T144127Z
UID:5804-1554133500-1554138000@cobhcommunitycentre.ie
SUMMARY:Designer Minds Rooms 8 & 9
DESCRIPTION:Every Monday
URL:https://cobhcommunitycentre.ie/event/designer-minds-rooms-8-9-9/
END:VEVENT
BEGIN:VEVENT
DTSTART;TZID=Europe/London:20190401T100000
DTEND;TZID=Europe/London:20190401T120000
DTSTAMP:20260420T234405
CREATED:20190403T151128Z
LAST-MODIFIED:20190403T151128Z
UID:5708-1554112800-1554120000@cobhcommunitycentre.ie
SUMMARY:Swels Active Retirement Main Hall
DESCRIPTION:Weekly Monday Meeting for Swels
URL:https://cobhcommunitycentre.ie/event/swels-active-retirement-main-hall-9/
END:VEVENT
BEGIN:VEVENT
DTSTART;TZID=Europe/London:20190401T090000
DTEND;TZID=Europe/London:20190401T090000
DTSTAMP:20260420T234405
CREATED:20190404T144134Z
LAST-MODIFIED:20190404T144134Z
UID:5823-1554109200-1554109200@cobhcommunitycentre.ie
SUMMARY:Tourism Course St. Colman's Wing 1
DESCRIPTION:Until 29th April
URL:https://cobhcommunitycentre.ie/event/tourism-course-st-colmans-wing-1-9/
END:VEVENT
BEGIN:VEVENT
DTSTART;TZID=Europe/London:20190401T083000
DTEND;TZID=Europe/London:20190405T153000
DTSTAMP:20260420T234405
CREATED:20190403T151136Z
LAST-MODIFIED:20190403T151136Z
UID:5727-1554107400-1554478200@cobhcommunitycentre.ie
SUMMARY:Lorraine's Montessori Room 14
DESCRIPTION:Montessori
URL:https://cobhcommunitycentre.ie/event/lorraines-montessori-room-14-8/
END:VEVENT
BEGIN:VEVENT
DTSTART;TZID=Europe/London:20190331T100000
DTEND;TZID=Europe/London:20190331T140000
DTSTAMP:20260420T234405
CREATED:20190305T233634Z
LAST-MODIFIED:20190305T233634Z
UID:5610-1554026400-1554040800@cobhcommunitycentre.ie
SUMMARY:Rebel County Archery Club Main Hall
DESCRIPTION:Weekly Group
URL:https://cobhcommunitycentre.ie/event/rebel-county-archery-club-main-hall-8/
END:VEVENT
BEGIN:VEVENT
DTSTART;TZID=Europe/London:20190331T100000
DTEND;TZID=Europe/London:20190331T130000
DTSTAMP:20260420T234405
CREATED:20190305T233641Z
LAST-MODIFIED:20190305T233641Z
UID:5634-1554026400-1554037200@cobhcommunitycentre.ie
SUMMARY:Good News Christian Church
DESCRIPTION:Weekly Group
URL:https://cobhcommunitycentre.ie/event/good-news-christian-church-8/
END:VEVENT
END:VCALENDAR