BEGIN:VCALENDAR
VERSION:2.0
PRODID:-//Cobh Great Island Community Centre - ECPv6.11.1//NONSGML v1.0//EN
CALSCALE:GREGORIAN
METHOD:PUBLISH
X-ORIGINAL-URL:https://cobhcommunitycentre.ie
X-WR-CALDESC:Events for Cobh Great Island Community Centre
REFRESH-INTERVAL;VALUE=DURATION:PT1H
X-Robots-Tag:noindex
X-PUBLISHED-TTL:PT1H
BEGIN:VTIMEZONE
TZID:Europe/London
BEGIN:DAYLIGHT
TZOFFSETFROM:+0000
TZOFFSETTO:+0100
TZNAME:BST
DTSTART:20190331T010000
END:DAYLIGHT
BEGIN:STANDARD
TZOFFSETFROM:+0100
TZOFFSETTO:+0000
TZNAME:GMT
DTSTART:20191027T010000
END:STANDARD
END:VTIMEZONE
BEGIN:VEVENT
DTSTART;TZID=Europe/London:20190308T170000
DTEND;TZID=Europe/London:20190308T203000
DTSTAMP:20260421T180705
CREATED:20190305T233637Z
LAST-MODIFIED:20190305T233637Z
UID:5623-1552064400-1552077000@cobhcommunitycentre.ie
SUMMARY:Red Cross Cobh Branch Room 14
DESCRIPTION:Weekly Group
URL:https://cobhcommunitycentre.ie/event/red-cross-cobh-branch-room-14-5/
END:VEVENT
BEGIN:VEVENT
DTSTART;TZID=Europe/London:20190308T150000
DTEND;TZID=Europe/London:20190308T170000
DTSTAMP:20260421T180705
CREATED:20190305T233620Z
LAST-MODIFIED:20190305T233620Z
UID:5547-1552057200-1552064400@cobhcommunitycentre.ie
SUMMARY:Ballymore Cobh Athletics Club Main Hall
DESCRIPTION:Sports Group
URL:https://cobhcommunitycentre.ie/event/ballymore-cobh-athletics-club-main-hall-9/
END:VEVENT
BEGIN:VEVENT
DTSTART;TZID=Europe/London:20190308T121500
DTEND;TZID=Europe/London:20190308T131500
DTSTAMP:20260421T180705
CREATED:20190305T233645Z
LAST-MODIFIED:20190305T233645Z
UID:5651-1552047300-1552050900@cobhcommunitycentre.ie
SUMMARY:Cork Sports Partnership with Trevor Main Hall
DESCRIPTION:Fridays
URL:https://cobhcommunitycentre.ie/event/cork-sports-partnership-with-trevor-main-hall-5/
END:VEVENT
BEGIN:VEVENT
DTSTART;TZID=Europe/London:20190308T103000
DTEND;TZID=Europe/London:20190308T123000
DTSTAMP:20260421T180705
CREATED:20190305T233648Z
LAST-MODIFIED:20190305T233648Z
UID:5655-1552041000-1552048200@cobhcommunitycentre.ie
SUMMARY:Swels Art Class Rooms 8 & 9
DESCRIPTION:Fridays except last Friday of the month
URL:https://cobhcommunitycentre.ie/event/swels-art-class-rooms-8-9-4/
END:VEVENT
BEGIN:VEVENT
DTSTART;TZID=Europe/London:20190307T203000
DTEND;TZID=Europe/London:20190307T213000
DTSTAMP:20260421T180705
CREATED:20190305T233634Z
LAST-MODIFIED:20190305T233634Z
UID:5611-1551990600-1551994200@cobhcommunitycentre.ie
SUMMARY:Cobh Korean Kickboxing Club Room 14
DESCRIPTION:Weekly Group
URL:https://cobhcommunitycentre.ie/event/cobh-korean-kickboxing-club-room-14-5/
END:VEVENT
BEGIN:VEVENT
DTSTART;TZID=Europe/London:20190307T193000
DTEND;TZID=Europe/London:20190307T213000
DTSTAMP:20260421T180705
CREATED:20190305T233630Z
LAST-MODIFIED:20190305T233630Z
UID:5603-1551987000-1551994200@cobhcommunitycentre.ie
SUMMARY:Declan Roche Dancing Main Hall
DESCRIPTION:Weekly Group
URL:https://cobhcommunitycentre.ie/event/declan-roche-dancing-main-hall-5/
END:VEVENT
BEGIN:VEVENT
DTSTART;TZID=Europe/London:20190307T193000
DTEND;TZID=Europe/London:20190307T210000
DTSTAMP:20260421T180705
CREATED:20190305T233630Z
LAST-MODIFIED:20190305T233630Z
UID:5601-1551987000-1551992400@cobhcommunitycentre.ie
SUMMARY:Lions Club Meeting Room 7
DESCRIPTION:(First Thurs of each month)
URL:https://cobhcommunitycentre.ie/event/lions-club-meeting-room-7-2/
END:VEVENT
BEGIN:VEVENT
DTSTART;TZID=Europe/London:20190307T180000
DTEND;TZID=Europe/London:20190307T200000
DTSTAMP:20260421T180705
CREATED:20190305T233625Z
LAST-MODIFIED:20190305T233625Z
UID:5572-1551981600-1551988800@cobhcommunitycentre.ie
SUMMARY:Cowhie - Ryan Irish Dancing Rooms 8 & 9
DESCRIPTION:Weekly Group
URL:https://cobhcommunitycentre.ie/event/cowhie-ryan-irish-dancing-rooms-8-9-5/
END:VEVENT
BEGIN:VEVENT
DTSTART;TZID=Europe/London:20190307T170000
DTEND;TZID=Europe/London:20190307T180000
DTSTAMP:20260421T180705
CREATED:20190305T233644Z
LAST-MODIFIED:20190305T233644Z
UID:5647-1551978000-1551981600@cobhcommunitycentre.ie
SUMMARY:Pop + Rock Choir Room 14
DESCRIPTION:Weekly Group
URL:https://cobhcommunitycentre.ie/event/pop-rock-choir-room-14-5/
END:VEVENT
BEGIN:VEVENT
DTSTART;TZID=Europe/London:20190307T140000
DTEND;TZID=Europe/London:20190307T163000
DTSTAMP:20260421T180705
CREATED:20190305T233636Z
LAST-MODIFIED:20190305T233636Z
UID:5619-1551967200-1551976200@cobhcommunitycentre.ie
SUMMARY:Bridge Cards Group Rooms 8 & 9
DESCRIPTION:Weekly Group
URL:https://cobhcommunitycentre.ie/event/bridge-cards-group-rooms-8-9-5/
END:VEVENT
BEGIN:VEVENT
DTSTART;TZID=Europe/London:20190307T134000
DTEND;TZID=Europe/London:20190307T154000
DTSTAMP:20260421T180705
CREATED:20190305T233627Z
LAST-MODIFIED:20190305T233627Z
UID:5585-1551966000-1551973200@cobhcommunitycentre.ie
SUMMARY:Cobh Children's Theatre Main Hall
DESCRIPTION:Drama Class
URL:https://cobhcommunitycentre.ie/event/cobh-childrens-theatre-main-hall-4/
END:VEVENT
BEGIN:VEVENT
DTSTART;TZID=Europe/London:20190307T100000
DTEND;TZID=Europe/London:20190307T110000
DTSTAMP:20260421T180705
CREATED:20190305T233650Z
LAST-MODIFIED:20190305T233650Z
UID:5665-1551952800-1551956400@cobhcommunitycentre.ie
SUMMARY:Activator Poles Walking Course Main Hall
DESCRIPTION:Starting 28th Feb
URL:https://cobhcommunitycentre.ie/event/activator-poles-walking-course-main-hall-2/
END:VEVENT
BEGIN:VEVENT
DTSTART;TZID=Europe/London:20190306T190000
DTEND;TZID=Europe/London:20190306T210000
DTSTAMP:20260421T180705
CREATED:20190305T233635Z
LAST-MODIFIED:20190305T233635Z
UID:5615-1551898800-1551906000@cobhcommunitycentre.ie
SUMMARY:Fencing Class Main Hall
DESCRIPTION:Weekly Group
URL:https://cobhcommunitycentre.ie/event/fencing-class-main-hall-5/
END:VEVENT
BEGIN:VEVENT
DTSTART;TZID=Europe/London:20190306T173000
DTEND;TZID=Europe/London:20190306T183000
DTSTAMP:20260421T180705
CREATED:20190305T233628Z
LAST-MODIFIED:20190305T233628Z
UID:5589-1551893400-1551897000@cobhcommunitycentre.ie
SUMMARY:Cobh Basketball Dwayne Main Hall
DESCRIPTION:Weekly Group
URL:https://cobhcommunitycentre.ie/event/cobh-basketball-dwayne-main-hall-5/
END:VEVENT
BEGIN:VEVENT
DTSTART;TZID=Europe/London:20190306T163000
DTEND;TZID=Europe/London:20190306T190000
DTSTAMP:20260421T180705
CREATED:20190305T233625Z
LAST-MODIFIED:20190305T233625Z
UID:5571-1551889800-1551898800@cobhcommunitycentre.ie
SUMMARY:Cowhie - Ryan Irish Dancing Room 14
DESCRIPTION:Weekly Group
URL:https://cobhcommunitycentre.ie/event/cowhie-ryan-irish-dancing-room-14-5/
END:VEVENT
BEGIN:VEVENT
DTSTART;TZID=Europe/London:20190306T153000
DTEND;TZID=Europe/London:20190306T193000
DTSTAMP:20260421T180705
CREATED:20190305T233626Z
LAST-MODIFIED:20190305T233626Z
UID:5581-1551886200-1551900600@cobhcommunitycentre.ie
SUMMARY:Sarah Callanan St.Colman's Wing 1
DESCRIPTION:School of Ballet
URL:https://cobhcommunitycentre.ie/event/sarah-callanan-st-colmans-wing-1-5/
END:VEVENT
BEGIN:VEVENT
DTSTART;TZID=Europe/London:20190306T144500
DTEND;TZID=Europe/London:20190306T164500
DTSTAMP:20260421T180705
CREATED:20190305T233641Z
LAST-MODIFIED:20190305T233641Z
UID:5635-1551883500-1551890700@cobhcommunitycentre.ie
SUMMARY:Footprints Rooms 8 & 9
DESCRIPTION:Autism and SPD Friendship/Social Group
URL:https://cobhcommunitycentre.ie/event/footprints-rooms-8-9-5/
END:VEVENT
BEGIN:VEVENT
DTSTART;TZID=Europe/London:20190305T164500
DTEND;TZID=Europe/London:20190305T174500
DTSTAMP:20260421T180705
CREATED:20190305T233623Z
LAST-MODIFIED:20190305T234252Z
UID:5559-1551804300-1551807900@cobhcommunitycentre.ie
SUMMARY:Cobh Youth Services Main Hall
DESCRIPTION:Weekly Group
URL:https://cobhcommunitycentre.ie/event/cobh-youth-services-main-hall-5/
END:VEVENT
BEGIN:VEVENT
DTSTART;TZID=Europe/London:20190304T200000
DTEND;TZID=Europe/London:20190304T210000
DTSTAMP:20260421T180705
CREATED:20190305T233643Z
LAST-MODIFIED:20190305T233643Z
UID:5643-1551729600-1551733200@cobhcommunitycentre.ie
SUMMARY:Cobh Triathlon Club Rooms 8 & 9
DESCRIPTION:Every Monday
URL:https://cobhcommunitycentre.ie/event/cobh-triathlon-club-rooms-8-9-4/
END:VEVENT
BEGIN:VEVENT
DTSTART;TZID=Europe/London:20190304T180000
DTEND;TZID=Europe/London:20190304T190000
DTSTAMP:20260421T180705
CREATED:20190305T233622Z
LAST-MODIFIED:20190305T233622Z
UID:5555-1551722400-1551726000@cobhcommunitycentre.ie
SUMMARY:Cobh Girls Basketball Cathy Main Hall
DESCRIPTION:Weekly Basketball
URL:https://cobhcommunitycentre.ie/event/cobh-girls-basketball-cathy-main-hall-5/
END:VEVENT
BEGIN:VEVENT
DTSTART;TZID=Europe/London:20190304T170000
DTEND;TZID=Europe/London:20190304T180000
DTSTAMP:20260421T180705
CREATED:20190305T233621Z
LAST-MODIFIED:20190305T233621Z
UID:5551-1551718800-1551722400@cobhcommunitycentre.ie
SUMMARY:Cobh Basketball Club Dominic Main Hall
DESCRIPTION:Weekly Basketball
URL:https://cobhcommunitycentre.ie/event/cobh-basketball-club-dominic-main-hall-5/
END:VEVENT
BEGIN:VEVENT
DTSTART;TZID=Europe/London:20190304T154500
DTEND;TZID=Europe/London:20190304T170000
DTSTAMP:20260421T180705
CREATED:20190305T233642Z
LAST-MODIFIED:20190305T233642Z
UID:5639-1551714300-1551718800@cobhcommunitycentre.ie
SUMMARY:Designer Minds Rooms 8 & 9
DESCRIPTION:Every Monday
URL:https://cobhcommunitycentre.ie/event/designer-minds-rooms-8-9-5/
END:VEVENT
BEGIN:VEVENT
DTSTART;TZID=Europe/London:20190304T144500
DTEND;TZID=Europe/London:20190304T164500
DTSTAMP:20260421T180705
CREATED:20190305T233610Z
LAST-MODIFIED:20190305T233610Z
UID:5543-1551710700-1551717900@cobhcommunitycentre.ie
SUMMARY:Ballymore Cobh Athletics Club Main Hall
DESCRIPTION:Sports Group
URL:https://cobhcommunitycentre.ie/event/ballymore-cobh-athletics-club-main-hall-5/
END:VEVENT
BEGIN:VEVENT
DTSTART;TZID=Europe/London:20190304T100000
DTEND;TZID=Europe/London:20190304T120000
DTSTAMP:20260421T180705
CREATED:20190305T233610Z
LAST-MODIFIED:20190305T233610Z
UID:5539-1551693600-1551700800@cobhcommunitycentre.ie
SUMMARY:Swels Active Retirement Main Hall
DESCRIPTION:Weekly Monday Meeting for Swels
URL:https://cobhcommunitycentre.ie/event/swels-active-retirement-main-hall-5/
END:VEVENT
BEGIN:VEVENT
DTSTART;TZID=Europe/London:20190304T090000
DTEND;TZID=Europe/London:20190304T163000
DTSTAMP:20260421T180705
CREATED:20190305T233649Z
LAST-MODIFIED:20190305T233649Z
UID:5660-1551690000-1551717000@cobhcommunitycentre.ie
SUMMARY:Tourism Course St. Colman's Wing 1
DESCRIPTION:Until 29th April
URL:https://cobhcommunitycentre.ie/event/tourism-course-st-colmans-wing-1-5/
END:VEVENT
BEGIN:VEVENT
DTSTART;TZID=Europe/London:20190304T083000
DTEND;TZID=Europe/London:20190308T153000
DTSTAMP:20260421T180705
CREATED:20190305T233623Z
LAST-MODIFIED:20190305T233623Z
UID:5563-1551688200-1552059000@cobhcommunitycentre.ie
SUMMARY:Lorraine's Montessori Room 14
DESCRIPTION:Montessori
URL:https://cobhcommunitycentre.ie/event/lorraines-montessori-room-14-4/
END:VEVENT
BEGIN:VEVENT
DTSTART;TZID=Europe/London:20190301T121500
DTEND;TZID=Europe/London:20190301T131500
DTSTAMP:20260421T180705
CREATED:20190207T000552Z
LAST-MODIFIED:20190207T000552Z
UID:5474-1551442500-1551446100@cobhcommunitycentre.ie
SUMMARY:Cork Sports Partnership with Trevor Main Hall
DESCRIPTION:Fridays
URL:https://cobhcommunitycentre.ie/event/cork-sports-partnership-with-trevor-main-hall-4/
END:VEVENT
BEGIN:VEVENT
DTSTART;TZID=Europe/London:20190301T103000
DTEND;TZID=Europe/London:20190301T123000
DTSTAMP:20260421T180705
CREATED:20190207T000553Z
LAST-MODIFIED:20190207T000553Z
UID:5478-1551436200-1551443400@cobhcommunitycentre.ie
SUMMARY:Swels Art Class Rooms 8 & 9
DESCRIPTION:Fridays except last Friday of the month
URL:https://cobhcommunitycentre.ie/event/swels-art-class-rooms-8-9-3/
END:VEVENT
BEGIN:VEVENT
DTSTART;TZID=Europe/London:20190228T170000
DTEND;TZID=Europe/London:20190228T180000
DTSTAMP:20260421T180705
CREATED:20190207T000550Z
LAST-MODIFIED:20190207T000550Z
UID:5467-1551373200-1551376800@cobhcommunitycentre.ie
SUMMARY:Pop + Rock Choir Room 14
DESCRIPTION:Weekly Group
URL:https://cobhcommunitycentre.ie/event/pop-rock-choir-room-14-4/
END:VEVENT
BEGIN:VEVENT
DTSTART;TZID=Europe/London:20190228T100000
DTEND;TZID=Europe/London:20190228T110000
DTSTAMP:20260421T180705
CREATED:20190207T000556Z
LAST-MODIFIED:20190305T233650Z
UID:5490-1551348000-1551351600@cobhcommunitycentre.ie
SUMMARY:Activator Poles Walking Course Main Hall
DESCRIPTION:Starting 28th Feb
URL:https://cobhcommunitycentre.ie/event/activator-poles-walking-course-main-hall/
END:VEVENT
END:VCALENDAR