BEGIN:VCALENDAR
VERSION:2.0
PRODID:-//Cobh Great Island Community Centre - ECPv6.11.1//NONSGML v1.0//EN
CALSCALE:GREGORIAN
METHOD:PUBLISH
X-ORIGINAL-URL:https://cobhcommunitycentre.ie
X-WR-CALDESC:Events for Cobh Great Island Community Centre
REFRESH-INTERVAL;VALUE=DURATION:PT1H
X-Robots-Tag:noindex
X-PUBLISHED-TTL:PT1H
BEGIN:VTIMEZONE
TZID:Europe/London
BEGIN:DAYLIGHT
TZOFFSETFROM:+0000
TZOFFSETTO:+0100
TZNAME:BST
DTSTART:20190331T010000
END:DAYLIGHT
BEGIN:STANDARD
TZOFFSETFROM:+0100
TZOFFSETTO:+0000
TZNAME:GMT
DTSTART:20191027T010000
END:STANDARD
END:VTIMEZONE
BEGIN:VEVENT
DTSTART;TZID=Europe/London:20190227T190000
DTEND;TZID=Europe/London:20190227T210000
DTSTAMP:20260421T214353
CREATED:20190130T221604Z
LAST-MODIFIED:20190130T223018Z
UID:5252-1551294000-1551301200@cobhcommunitycentre.ie
SUMMARY:Fencing Class Main Hall
DESCRIPTION:Weekly Group
URL:https://cobhcommunitycentre.ie/event/fencing-class-main-hall-4/
END:VEVENT
BEGIN:VEVENT
DTSTART;TZID=Europe/London:20190227T190000
DTEND;TZID=Europe/London:20190227T200000
DTSTAMP:20260421T214353
CREATED:20190130T221558Z
LAST-MODIFIED:20190206T234244Z
UID:5236-1551294000-1551297600@cobhcommunitycentre.ie
SUMMARY:Ber McCall Yoga Rooms 8 & 9
DESCRIPTION:(6 week block)
URL:https://cobhcommunitycentre.ie/event/ber-mccall-yoga-rooms-8-9-4/
END:VEVENT
BEGIN:VEVENT
DTSTART;TZID=Europe/London:20190227T173000
DTEND;TZID=Europe/London:20190227T183000
DTSTAMP:20260421T214353
CREATED:20190130T221554Z
LAST-MODIFIED:20190130T223010Z
UID:5222-1551288600-1551292200@cobhcommunitycentre.ie
SUMMARY:Cobh Basketball Dwayne Main Hall
DESCRIPTION:Weekly Group
URL:https://cobhcommunitycentre.ie/event/cobh-basketball-dwayne-main-hall-4/
END:VEVENT
BEGIN:VEVENT
DTSTART;TZID=Europe/London:20190227T153000
DTEND;TZID=Europe/London:20190227T193000
DTSTAMP:20260421T214353
CREATED:20190130T221549Z
LAST-MODIFIED:20190130T223005Z
UID:5218-1551281400-1551295800@cobhcommunitycentre.ie
SUMMARY:Sarah Callanan St.Colman's Wing 1
DESCRIPTION:School of Ballet
URL:https://cobhcommunitycentre.ie/event/sarah-callanan-st-colmans-wing-1-4/
END:VEVENT
BEGIN:VEVENT
DTSTART;TZID=Europe/London:20190227T144500
DTEND;TZID=Europe/London:20190227T164500
DTSTAMP:20260421T214353
CREATED:20190206T233057Z
LAST-MODIFIED:20190206T233057Z
UID:5450-1551278700-1551285900@cobhcommunitycentre.ie
SUMMARY:Footprints Rooms 8 & 9
DESCRIPTION:Autism and SPD Friendship/Social Group
URL:https://cobhcommunitycentre.ie/event/footprints-rooms-8-9-4/
END:VEVENT
BEGIN:VEVENT
DTSTART;TZID=Europe/London:20190227T110000
DTEND;TZID=Europe/London:20190227T120000
DTSTAMP:20260421T214353
CREATED:20190130T221613Z
LAST-MODIFIED:20190130T223025Z
UID:5277-1551265200-1551268800@cobhcommunitycentre.ie
SUMMARY:Swels Fit Walk Main Hall
DESCRIPTION:Weekly Group
URL:https://cobhcommunitycentre.ie/event/swels-fit-walk-main-hall-4/
END:VEVENT
BEGIN:VEVENT
DTSTART;TZID=Europe/London:20190226T150000
DTEND;TZID=Europe/London:20190226T160000
DTSTAMP:20260421T214353
CREATED:20190130T221611Z
LAST-MODIFIED:20190130T223024Z
UID:5273-1551193200-1551196800@cobhcommunitycentre.ie
SUMMARY:Swels Dance Class St. Colman's Wing 1
DESCRIPTION:Weekly Group
URL:https://cobhcommunitycentre.ie/event/swels-dance-class-st-colmans-wing-1-4/
END:VEVENT
BEGIN:VEVENT
DTSTART;TZID=Europe/London:20190226T110000
DTEND;TZID=Europe/London:20190226T120000
DTSTAMP:20260421T214353
CREATED:20190130T221613Z
LAST-MODIFIED:20190130T223026Z
UID:5281-1551178800-1551182400@cobhcommunitycentre.ie
SUMMARY:Swels Singing St. Colman's Wing 1
DESCRIPTION:Weekly Group
URL:https://cobhcommunitycentre.ie/event/swels-singing-st-colmans-wing-1-4/
END:VEVENT
BEGIN:VEVENT
DTSTART;TZID=Europe/London:20190225T154500
DTEND;TZID=Europe/London:20190225T170000
DTSTAMP:20260421T214353
CREATED:20190207T000539Z
LAST-MODIFIED:20190207T000539Z
UID:5460-1551109500-1551114000@cobhcommunitycentre.ie
SUMMARY:Designer Minds Rooms 8 & 9
DESCRIPTION:Every Monday
URL:https://cobhcommunitycentre.ie/event/designer-minds-rooms-8-9-4/
END:VEVENT
BEGIN:VEVENT
DTSTART;TZID=Europe/London:20190225T090000
DTEND;TZID=Europe/London:20190225T163000
DTSTAMP:20260421T214353
CREATED:20190207T000556Z
LAST-MODIFIED:20190207T000556Z
UID:5489-1551085200-1551112200@cobhcommunitycentre.ie
SUMMARY:Tourism Course St. Colman's Wing 1
DESCRIPTION:Until 29th April
URL:https://cobhcommunitycentre.ie/event/tourism-course-st-colmans-wing-1-4/
END:VEVENT
BEGIN:VEVENT
DTSTART;TZID=Europe/London:20190224T100000
DTEND;TZID=Europe/London:20190224T140000
DTSTAMP:20260421T214353
CREATED:20190130T221601Z
LAST-MODIFIED:20190130T223016Z
UID:5244-1551002400-1551016800@cobhcommunitycentre.ie
SUMMARY:Rebel County Archery Club Main Hall
DESCRIPTION:Weekly Group
URL:https://cobhcommunitycentre.ie/event/rebel-county-archery-club-main-hall-4/
END:VEVENT
BEGIN:VEVENT
DTSTART;TZID=Europe/London:20190224T100000
DTEND;TZID=Europe/London:20190224T130000
DTSTAMP:20260421T214353
CREATED:20190130T221610Z
LAST-MODIFIED:20190130T223023Z
UID:5269-1551002400-1551013200@cobhcommunitycentre.ie
SUMMARY:Good News Christian Church
DESCRIPTION:Weekly Group
URL:https://cobhcommunitycentre.ie/event/good-news-christian-church-4/
END:VEVENT
BEGIN:VEVENT
DTSTART;TZID=Europe/London:20190223T100000
DTEND;TZID=Europe/London:20190223T130000
DTSTAMP:20260421T214353
CREATED:20190130T221556Z
LAST-MODIFIED:20190130T223011Z
UID:5230-1550916000-1550926800@cobhcommunitycentre.ie
SUMMARY:Basketball Boy's Main Hall
DESCRIPTION:Weekly Group
URL:https://cobhcommunitycentre.ie/event/basketball-boys-main-hall-4/
END:VEVENT
BEGIN:VEVENT
DTSTART;TZID=Europe/London:20190223T090000
DTEND;TZID=Europe/London:20190223T170000
DTSTAMP:20260421T214353
CREATED:20190130T000442Z
LAST-MODIFIED:20190130T222956Z
UID:5145-1550912400-1550941200@cobhcommunitycentre.ie
SUMMARY:Rosewood Grove Room 14
DESCRIPTION:Weekly Group
URL:https://cobhcommunitycentre.ie/event/rosewood-grove-room-14-4/
END:VEVENT
BEGIN:VEVENT
DTSTART;TZID=Europe/London:20190223T083000
DTEND;TZID=Europe/London:20190223T123000
DTSTAMP:20260421T214353
CREATED:20190130T221608Z
LAST-MODIFIED:20190130T223021Z
UID:5265-1550910600-1550925000@cobhcommunitycentre.ie
SUMMARY:Slimming World Rooms 8 & 9
DESCRIPTION:Weekly Group
URL:https://cobhcommunitycentre.ie/event/slimming-world-rooms-8-9-4/
END:VEVENT
BEGIN:VEVENT
DTSTART;TZID=Europe/London:20190222T201500
DTEND;TZID=Europe/London:20190222T221500
DTSTAMP:20260421T214353
CREATED:20190126T131703Z
LAST-MODIFIED:20190130T222948Z
UID:4970-1550866500-1550873700@cobhcommunitycentre.ie
SUMMARY:Bingo Main Hall
DESCRIPTION:Every Friday Night
URL:https://cobhcommunitycentre.ie/event/bingo-main-hall-4/
END:VEVENT
BEGIN:VEVENT
DTSTART;TZID=Europe/London:20190222T193000
DTEND;TZID=Europe/London:20190222T223000
DTSTAMP:20260421T214353
CREATED:20190130T221554Z
LAST-MODIFIED:20190130T223010Z
UID:5226-1550863800-1550874600@cobhcommunitycentre.ie
SUMMARY:Cobh Gramophone Society Rooms 8 & 9
DESCRIPTION:Weekly Group
URL:https://cobhcommunitycentre.ie/event/cobh-gramophone-society-rooms-8-9-4/
END:VEVENT
BEGIN:VEVENT
DTSTART;TZID=Europe/London:20190222T170000
DTEND;TZID=Europe/London:20190222T203000
DTSTAMP:20260421T214353
CREATED:20190130T221607Z
LAST-MODIFIED:20190130T223020Z
UID:5261-1550854800-1550867400@cobhcommunitycentre.ie
SUMMARY:Red Cross Cobh Branch Room 14
DESCRIPTION:Weekly Group
URL:https://cobhcommunitycentre.ie/event/red-cross-cobh-branch-room-14-4/
END:VEVENT
BEGIN:VEVENT
DTSTART;TZID=Europe/London:20190222T121500
DTEND;TZID=Europe/London:20190222T131500
DTSTAMP:20260421T214353
CREATED:20190207T000552Z
LAST-MODIFIED:20190207T000552Z
UID:5473-1550837700-1550841300@cobhcommunitycentre.ie
SUMMARY:Cork Sports Partnership with Trevor Main Hall
DESCRIPTION:Fridays
URL:https://cobhcommunitycentre.ie/event/cork-sports-partnership-with-trevor-main-hall-3/
END:VEVENT
BEGIN:VEVENT
DTSTART;TZID=Europe/London:20190222T110000
DTEND;TZID=Europe/London:20190222T130000
DTSTAMP:20260421T214353
CREATED:20190207T000553Z
LAST-MODIFIED:20190207T000553Z
UID:5479-1550833200-1550840400@cobhcommunitycentre.ie
SUMMARY:Dementia Café Rooms 8 & 9
DESCRIPTION:(Last Friday of the month)
URL:https://cobhcommunitycentre.ie/event/dementia-cafe-rooms-8-9/
END:VEVENT
BEGIN:VEVENT
DTSTART;TZID=Europe/London:20190222T103000
DTEND;TZID=Europe/London:20190222T123000
DTSTAMP:20260421T214353
CREATED:20190207T000553Z
LAST-MODIFIED:20190207T000553Z
UID:5477-1550831400-1550838600@cobhcommunitycentre.ie
SUMMARY:Swels Art Class St. Colman's Wing 1
DESCRIPTION:Fridays except last Friday of the month
URL:https://cobhcommunitycentre.ie/event/swels-art-class-st-colmans-wing-1/
END:VEVENT
BEGIN:VEVENT
DTSTART;TZID=Europe/London:20190221T203000
DTEND;TZID=Europe/London:20190221T213000
DTSTAMP:20260421T214353
CREATED:20190207T000551Z
LAST-MODIFIED:20190207T000551Z
UID:5470-1550781000-1550784600@cobhcommunitycentre.ie
SUMMARY:Ballymore Athletics Club Rooms 8 & 9 (Last Class)
DESCRIPTION:Weekly Group
URL:https://cobhcommunitycentre.ie/event/ballymore-athletics-club-rooms-8-9-last-class/
END:VEVENT
BEGIN:VEVENT
DTSTART;TZID=Europe/London:20190221T203000
DTEND;TZID=Europe/London:20190221T213000
DTSTAMP:20260421T214353
CREATED:20190130T221603Z
LAST-MODIFIED:20190130T223017Z
UID:5248-1550781000-1550784600@cobhcommunitycentre.ie
SUMMARY:Cobh Korean Kickboxing Club Room 14
DESCRIPTION:Weekly Group
URL:https://cobhcommunitycentre.ie/event/cobh-korean-kickboxing-club-room-14-4/
END:VEVENT
BEGIN:VEVENT
DTSTART;TZID=Europe/London:20190221T200000
DTEND;TZID=Europe/London:20190221T210000
DTSTAMP:20260421T214353
CREATED:20190207T000555Z
LAST-MODIFIED:20190207T000555Z
UID:5483-1550779200-1550782800@cobhcommunitycentre.ie
SUMMARY:Vincent O'Rourke Room 13 (Last Class)
DESCRIPTION:Guitar Class until 21st February
URL:https://cobhcommunitycentre.ie/event/vincent-orourke-room-13-last-class/
END:VEVENT
BEGIN:VEVENT
DTSTART;TZID=Europe/London:20190221T193000
DTEND;TZID=Europe/London:20190221T213000
DTSTAMP:20260421T214353
CREATED:20190130T221559Z
LAST-MODIFIED:20190130T223014Z
UID:5240-1550777400-1550784600@cobhcommunitycentre.ie
SUMMARY:Declan Roche Dancing Main Hall
DESCRIPTION:Weekly Group
URL:https://cobhcommunitycentre.ie/event/declan-roche-dancing-main-hall-4/
END:VEVENT
BEGIN:VEVENT
DTSTART;TZID=Europe/London:20190221T183000
DTEND;TZID=Europe/London:20190221T203000
DTSTAMP:20260421T214353
CREATED:20190129T234952Z
LAST-MODIFIED:20190130T223008Z
UID:5042-1550773800-1550781000@cobhcommunitycentre.ie
SUMMARY:Cork School of Judo Room 14
DESCRIPTION:Weekly Group
URL:https://cobhcommunitycentre.ie/event/cork-school-of-judo-room-14-8/
END:VEVENT
BEGIN:VEVENT
DTSTART;TZID=Europe/London:20190221T180000
DTEND;TZID=Europe/London:20190221T200000
DTSTAMP:20260421T214353
CREATED:20190129T234942Z
LAST-MODIFIED:20190130T222958Z
UID:5014-1550772000-1550779200@cobhcommunitycentre.ie
SUMMARY:Cowhie - Ryan Irish Dancing Rooms 8 & 9
DESCRIPTION:Weekly Group
URL:https://cobhcommunitycentre.ie/event/cowhie-ryan-irish-dancing-rooms-8-9-4/
END:VEVENT
BEGIN:VEVENT
DTSTART;TZID=Europe/London:20190221T170000
DTEND;TZID=Europe/London:20190221T210000
DTSTAMP:20260421T214353
CREATED:20190129T234939Z
LAST-MODIFIED:20190130T222956Z
UID:5005-1550768400-1550782800@cobhcommunitycentre.ie
SUMMARY:Rosewood Grove Room 10
DESCRIPTION:Weekly Group
URL:https://cobhcommunitycentre.ie/event/rosewood-grove-room-10-10/
END:VEVENT
BEGIN:VEVENT
DTSTART;TZID=Europe/London:20190221T170000
DTEND;TZID=Europe/London:20190221T180000
DTSTAMP:20260421T214353
CREATED:20190207T000549Z
LAST-MODIFIED:20190207T000549Z
UID:5466-1550768400-1550772000@cobhcommunitycentre.ie
SUMMARY:Pop + Rock Choir Room 14
DESCRIPTION:Weekly Group
URL:https://cobhcommunitycentre.ie/event/pop-rock-choir-room-14-3/
END:VEVENT
BEGIN:VEVENT
DTSTART;TZID=Europe/London:20190221T140000
DTEND;TZID=Europe/London:20190221T163000
DTSTAMP:20260421T214353
CREATED:20190130T221606Z
LAST-MODIFIED:20190130T223020Z
UID:5257-1550757600-1550766600@cobhcommunitycentre.ie
SUMMARY:Bridge Cards Group Rooms 8 & 9
DESCRIPTION:Weekly Group
URL:https://cobhcommunitycentre.ie/event/bridge-cards-group-rooms-8-9-4/
END:VEVENT
END:VCALENDAR