BEGIN:VCALENDAR
VERSION:2.0
PRODID:-//Cobh Great Island Community Centre - ECPv6.11.1//NONSGML v1.0//EN
CALSCALE:GREGORIAN
METHOD:PUBLISH
X-WR-CALNAME:Cobh Great Island Community Centre
X-ORIGINAL-URL:https://cobhcommunitycentre.ie
X-WR-CALDESC:Events for Cobh Great Island Community Centre
REFRESH-INTERVAL;VALUE=DURATION:PT1H
X-Robots-Tag:noindex
X-PUBLISHED-TTL:PT1H
BEGIN:VTIMEZONE
TZID:Europe/London
BEGIN:DAYLIGHT
TZOFFSETFROM:+0000
TZOFFSETTO:+0100
TZNAME:BST
DTSTART:20190331T010000
END:DAYLIGHT
BEGIN:STANDARD
TZOFFSETFROM:+0100
TZOFFSETTO:+0000
TZNAME:GMT
DTSTART:20191027T010000
END:STANDARD
END:VTIMEZONE
BEGIN:VEVENT
DTSTART;TZID=Europe/London:20190214T183000
DTEND;TZID=Europe/London:20190214T203000
DTSTAMP:20260422T064417
CREATED:20190129T234951Z
LAST-MODIFIED:20190130T223007Z
UID:5040-1550169000-1550176200@cobhcommunitycentre.ie
SUMMARY:Cork School of Judo Room 14
DESCRIPTION:Weekly Group
URL:https://cobhcommunitycentre.ie/event/cork-school-of-judo-room-14-6/
END:VEVENT
BEGIN:VEVENT
DTSTART;TZID=Europe/London:20190214T180000
DTEND;TZID=Europe/London:20190214T200000
DTSTAMP:20260422T064417
CREATED:20190129T234942Z
LAST-MODIFIED:20190130T222958Z
UID:5012-1550167200-1550174400@cobhcommunitycentre.ie
SUMMARY:Cowhie - Ryan Irish Dancing Rooms 8 & 9
DESCRIPTION:Weekly Group
URL:https://cobhcommunitycentre.ie/event/cowhie-ryan-irish-dancing-rooms-8-9-3/
END:VEVENT
BEGIN:VEVENT
DTSTART;TZID=Europe/London:20190214T170000
DTEND;TZID=Europe/London:20190214T210000
DTSTAMP:20260422T064417
CREATED:20190129T234938Z
LAST-MODIFIED:20190130T222955Z
UID:5002-1550163600-1550178000@cobhcommunitycentre.ie
SUMMARY:Rosewood Grove Room 10
DESCRIPTION:Weekly Group
URL:https://cobhcommunitycentre.ie/event/rosewood-grove-room-10-7/
END:VEVENT
BEGIN:VEVENT
DTSTART;TZID=Europe/London:20190214T170000
DTEND;TZID=Europe/London:20190214T180000
DTSTAMP:20260422T064417
CREATED:20190207T000549Z
LAST-MODIFIED:20190207T000549Z
UID:5465-1550163600-1550167200@cobhcommunitycentre.ie
SUMMARY:Pop + Rock Choir Room 14
DESCRIPTION:Weekly Group
URL:https://cobhcommunitycentre.ie/event/pop-rock-choir-room-14-2/
END:VEVENT
BEGIN:VEVENT
DTSTART;TZID=Europe/London:20190214T163000
DTEND;TZID=Europe/London:20190214T184500
DTSTAMP:20260422T064417
CREATED:20190130T222952Z
LAST-MODIFIED:20190130T222952Z
UID:5415-1550161800-1550169900@cobhcommunitycentre.ie
SUMMARY:Irish Girl Guides St. Colman's Wing 1 & 2
DESCRIPTION:Weekly Group
URL:https://cobhcommunitycentre.ie/event/irish-girl-guides-st-colmans-wing-1-2-98/
END:VEVENT
BEGIN:VEVENT
DTSTART;TZID=Europe/London:20190214T140000
DTEND;TZID=Europe/London:20190214T163000
DTSTAMP:20260422T064417
CREATED:20190130T221605Z
LAST-MODIFIED:20190130T223019Z
UID:5256-1550152800-1550161800@cobhcommunitycentre.ie
SUMMARY:Bridge Cards Group Rooms 8 & 9
DESCRIPTION:Weekly Group
URL:https://cobhcommunitycentre.ie/event/bridge-cards-group-rooms-8-9-3/
END:VEVENT
BEGIN:VEVENT
DTSTART;TZID=Europe/London:20190214T134000
DTEND;TZID=Europe/London:20190214T154000
DTSTAMP:20260422T064417
CREATED:20190129T234949Z
LAST-MODIFIED:20190130T223005Z
UID:5034-1550151600-1550158800@cobhcommunitycentre.ie
SUMMARY:Cobh Children's Theatre Main Hall
DESCRIPTION:Drama Class
URL:https://cobhcommunitycentre.ie/event/cobh-childrens-theatre-main-hall-3/
END:VEVENT
BEGIN:VEVENT
DTSTART;TZID=Europe/London:20190214T121500
DTEND;TZID=Europe/London:20190214T131500
DTSTAMP:20260422T064417
CREATED:20190130T221617Z
LAST-MODIFIED:20190130T222233Z
UID:5288-1550146500-1550150100@cobhcommunitycentre.ie
SUMMARY:Swels Yoga St. Colman's Wing 1
DESCRIPTION:Weekly Group
URL:https://cobhcommunitycentre.ie/event/swels-yoga-st-colmans-wing-1-3/
END:VEVENT
BEGIN:VEVENT
DTSTART;TZID=Europe/London:20190214T110000
DTEND;TZID=Europe/London:20190214T120000
DTSTAMP:20260422T064417
CREATED:20190130T221615Z
LAST-MODIFIED:20190130T223027Z
UID:5284-1550142000-1550145600@cobhcommunitycentre.ie
SUMMARY:Swels Cards Room 13
DESCRIPTION:Weekly Group
URL:https://cobhcommunitycentre.ie/event/swels-cards-room-13-3/
END:VEVENT
BEGIN:VEVENT
DTSTART;TZID=Europe/London:20190214T090000
DTEND;TZID=Europe/London:20190214T100000
DTSTAMP:20260422T064417
CREATED:20190129T234947Z
LAST-MODIFIED:20190130T223004Z
UID:5027-1550134800-1550138400@cobhcommunitycentre.ie
SUMMARY:Carmel O'Regan Fitness St.Colman's Wing 1
DESCRIPTION:Pilates
URL:https://cobhcommunitycentre.ie/event/carmel-oregan-fitness-st-colmans-wing-1-7/
END:VEVENT
BEGIN:VEVENT
DTSTART;TZID=Europe/London:20190213T190000
DTEND;TZID=Europe/London:20190213T210000
DTSTAMP:20260422T064417
CREATED:20190130T221603Z
LAST-MODIFIED:20190130T223017Z
UID:5250-1550084400-1550091600@cobhcommunitycentre.ie
SUMMARY:Fencing Class Main Hall
DESCRIPTION:Weekly Group
URL:https://cobhcommunitycentre.ie/event/fencing-class-main-hall-2/
END:VEVENT
BEGIN:VEVENT
DTSTART;TZID=Europe/London:20190213T190000
DTEND;TZID=Europe/London:20190213T200000
DTSTAMP:20260422T064417
CREATED:20190130T221557Z
LAST-MODIFIED:20190206T234121Z
UID:5234-1550084400-1550088000@cobhcommunitycentre.ie
SUMMARY:Ber McCall Yoga Rooms 8 & 9
DESCRIPTION:(6 week block)
URL:https://cobhcommunitycentre.ie/event/ber-mccall-yoga-rooms-8-9-2/
END:VEVENT
BEGIN:VEVENT
DTSTART;TZID=Europe/London:20190213T173000
DTEND;TZID=Europe/London:20190213T183000
DTSTAMP:20260422T064417
CREATED:20190130T221552Z
LAST-MODIFIED:20190130T223009Z
UID:5221-1550079000-1550082600@cobhcommunitycentre.ie
SUMMARY:Cobh Basketball Dwayne Main Hall
DESCRIPTION:Weekly Group
URL:https://cobhcommunitycentre.ie/event/cobh-basketball-dwayne-main-hall-3/
END:VEVENT
BEGIN:VEVENT
DTSTART;TZID=Europe/London:20190213T163000
DTEND;TZID=Europe/London:20190213T190000
DTSTAMP:20260422T064417
CREATED:20190129T234942Z
LAST-MODIFIED:20190130T222957Z
UID:5011-1550075400-1550084400@cobhcommunitycentre.ie
SUMMARY:Cowhie - Ryan Irish Dancing Room 14
DESCRIPTION:Weekly Group
URL:https://cobhcommunitycentre.ie/event/cowhie-ryan-irish-dancing-room-14-3/
END:VEVENT
BEGIN:VEVENT
DTSTART;TZID=Europe/London:20190213T153000
DTEND;TZID=Europe/London:20190213T193000
DTSTAMP:20260422T064417
CREATED:20190129T234949Z
LAST-MODIFIED:20190130T223004Z
UID:5031-1550071800-1550086200@cobhcommunitycentre.ie
SUMMARY:Sarah Callanan St.Colman's Wing 1
DESCRIPTION:School of Ballet
URL:https://cobhcommunitycentre.ie/event/sarah-callanan-st-colmans-wing-1-3/
END:VEVENT
BEGIN:VEVENT
DTSTART;TZID=Europe/London:20190213T144500
DTEND;TZID=Europe/London:20190213T164500
DTSTAMP:20260422T064417
CREATED:20190206T233057Z
LAST-MODIFIED:20190206T233057Z
UID:5448-1550069100-1550076300@cobhcommunitycentre.ie
SUMMARY:Footprints Rooms 8 & 9
DESCRIPTION:Autism and SPD Friendship/Social Group
URL:https://cobhcommunitycentre.ie/event/footprints-rooms-8-9-2/
END:VEVENT
BEGIN:VEVENT
DTSTART;TZID=Europe/London:20190213T110000
DTEND;TZID=Europe/London:20190213T120000
DTSTAMP:20260422T064417
CREATED:20190130T221612Z
LAST-MODIFIED:20190130T223024Z
UID:5275-1550055600-1550059200@cobhcommunitycentre.ie
SUMMARY:Swels Fit Walk Main Hall
DESCRIPTION:Weekly Group
URL:https://cobhcommunitycentre.ie/event/swels-fit-walk-main-hall-2/
END:VEVENT
BEGIN:VEVENT
DTSTART;TZID=Europe/London:20190212T200000
DTEND;TZID=Europe/London:20190212T210000
DTSTAMP:20260422T064417
CREATED:20190129T234945Z
LAST-MODIFIED:20190130T223002Z
UID:5023-1550001600-1550005200@cobhcommunitycentre.ie
SUMMARY:Carmel O'Regan Fitness St.Colman's Wing 1
DESCRIPTION:Pilates
URL:https://cobhcommunitycentre.ie/event/carmel-oregan-fitness-st-colmans-wing-1-3/
END:VEVENT
BEGIN:VEVENT
DTSTART;TZID=Europe/London:20190212T180000
DTEND;TZID=Europe/London:20190212T220000
DTSTAMP:20260422T064417
CREATED:20190129T234951Z
LAST-MODIFIED:20190130T223007Z
UID:5039-1549994400-1550008800@cobhcommunitycentre.ie
SUMMARY:Cork School of Judo Room 14
DESCRIPTION:Weekly Group
URL:https://cobhcommunitycentre.ie/event/cork-school-of-judo-room-14-5/
END:VEVENT
BEGIN:VEVENT
DTSTART;TZID=Europe/London:20190212T163000
DTEND;TZID=Europe/London:20190212T173000
DTSTAMP:20260422T064417
CREATED:20190126T130700Z
LAST-MODIFIED:20190206T234457Z
UID:4937-1549989000-1549992600@cobhcommunitycentre.ie
SUMMARY:Cobh Youth Services Main Hall
DESCRIPTION:Weekly Group
URL:https://cobhcommunitycentre.ie/event/cobh-youth-services-main-hall-3/
END:VEVENT
BEGIN:VEVENT
DTSTART;TZID=Europe/London:20190212T150000
DTEND;TZID=Europe/London:20190212T160000
DTSTAMP:20260422T064417
CREATED:20190130T221610Z
LAST-MODIFIED:20190130T223023Z
UID:5271-1549983600-1549987200@cobhcommunitycentre.ie
SUMMARY:Swels Dance Class St. Colman's Wing 1
DESCRIPTION:Weekly Group
URL:https://cobhcommunitycentre.ie/event/swels-dance-class-st-colmans-wing-1-2/
END:VEVENT
BEGIN:VEVENT
DTSTART;TZID=Europe/London:20190212T110000
DTEND;TZID=Europe/London:20190212T120000
DTSTAMP:20260422T064417
CREATED:20190130T221613Z
LAST-MODIFIED:20190130T223025Z
UID:5279-1549969200-1549972800@cobhcommunitycentre.ie
SUMMARY:Swels Singing St. Colman's Wing 1
DESCRIPTION:Weekly Group
URL:https://cobhcommunitycentre.ie/event/swels-singing-st-colmans-wing-1-2/
END:VEVENT
BEGIN:VEVENT
DTSTART;TZID=Europe/London:20190211T200000
DTEND;TZID=Europe/London:20190211T210000
DTSTAMP:20260422T064417
CREATED:20190207T000549Z
LAST-MODIFIED:20190207T000549Z
UID:5462-1549915200-1549918800@cobhcommunitycentre.ie
SUMMARY:Cobh Triathlon Club Rooms 8 & 9
DESCRIPTION:Every Monday
URL:https://cobhcommunitycentre.ie/event/cobh-triathlon-club-rooms-8-9-2/
END:VEVENT
BEGIN:VEVENT
DTSTART;TZID=Europe/London:20190211T200000
DTEND;TZID=Europe/London:20190211T204500
DTSTAMP:20260422T064417
CREATED:20190129T234944Z
LAST-MODIFIED:20190130T223000Z
UID:5019-1549915200-1549917900@cobhcommunitycentre.ie
SUMMARY:Carmel O'Regan Fitness Room 13
DESCRIPTION:Step & Tone
URL:https://cobhcommunitycentre.ie/event/carmel-oregan-fitness-room-13-3/
END:VEVENT
BEGIN:VEVENT
DTSTART;TZID=Europe/London:20190211T190000
DTEND;TZID=Europe/London:20190211T220000
DTSTAMP:20260422T064417
CREATED:20190129T234942Z
LAST-MODIFIED:20190130T222958Z
UID:5015-1549911600-1549922400@cobhcommunitycentre.ie
SUMMARY:East Cork Cinema Club Room 14 (This event takes place one Monday a month\, check with centre re: dates)
DESCRIPTION:Movie Night
URL:https://cobhcommunitycentre.ie/event/east-cork-cinema-club-room-14-this-event-takes-place-one-monday-a-month-check-with-centre-re-dates/
END:VEVENT
BEGIN:VEVENT
DTSTART;TZID=Europe/London:20190211T180000
DTEND;TZID=Europe/London:20190211T190000
DTSTAMP:20260422T064417
CREATED:20190126T130658Z
LAST-MODIFIED:20190130T222944Z
UID:4933-1549908000-1549911600@cobhcommunitycentre.ie
SUMMARY:Cobh Girls Basketball Cathy Main Hall
DESCRIPTION:Weekly Basketball
URL:https://cobhcommunitycentre.ie/event/cobh-girls-basketball-cathy-main-hall-3/
END:VEVENT
BEGIN:VEVENT
DTSTART;TZID=Europe/London:20190211T170000
DTEND;TZID=Europe/London:20190211T210000
DTSTAMP:20260422T064417
CREATED:20190129T234938Z
LAST-MODIFIED:20190130T222954Z
UID:5001-1549904400-1549918800@cobhcommunitycentre.ie
SUMMARY:Rosewood Grove Room 10
DESCRIPTION:Weekly Group
URL:https://cobhcommunitycentre.ie/event/rosewood-grove-room-10-6/
END:VEVENT
BEGIN:VEVENT
DTSTART;TZID=Europe/London:20190211T170000
DTEND;TZID=Europe/London:20190211T180000
DTSTAMP:20260422T064417
CREATED:20190126T130658Z
LAST-MODIFIED:20190130T222943Z
UID:4929-1549904400-1549908000@cobhcommunitycentre.ie
SUMMARY:Cobh Basketball Club Dominic Main Hall
DESCRIPTION:Weekly Basketball
URL:https://cobhcommunitycentre.ie/event/cobh-basketball-club-dominic-main-hall-3/
END:VEVENT
BEGIN:VEVENT
DTSTART;TZID=Europe/London:20190211T163000
DTEND;TZID=Europe/London:20190211T213000
DTSTAMP:20260422T064417
CREATED:20190130T222951Z
LAST-MODIFIED:20190130T222951Z
UID:5414-1549902600-1549920600@cobhcommunitycentre.ie
SUMMARY:Irish Girl Guides St. Colman's Wing 1 & 2
DESCRIPTION:Weekly Group
URL:https://cobhcommunitycentre.ie/event/irish-girl-guides-st-colmans-wing-1-2-97/
END:VEVENT
BEGIN:VEVENT
DTSTART;TZID=Europe/London:20190211T154500
DTEND;TZID=Europe/London:20190211T170000
DTSTAMP:20260422T064417
CREATED:20190207T000539Z
LAST-MODIFIED:20190207T000539Z
UID:5458-1549899900-1549904400@cobhcommunitycentre.ie
SUMMARY:Designer Minds Rooms 8 & 9
DESCRIPTION:Every Monday
URL:https://cobhcommunitycentre.ie/event/designer-minds-rooms-8-9-2/
END:VEVENT
END:VCALENDAR