BEGIN:VCALENDAR
VERSION:2.0
PRODID:-//Cobh Great Island Community Centre - ECPv6.11.1//NONSGML v1.0//EN
CALSCALE:GREGORIAN
METHOD:PUBLISH
X-ORIGINAL-URL:https://cobhcommunitycentre.ie
X-WR-CALDESC:Events for Cobh Great Island Community Centre
REFRESH-INTERVAL;VALUE=DURATION:PT1H
X-Robots-Tag:noindex
X-PUBLISHED-TTL:PT1H
BEGIN:VTIMEZONE
TZID:Europe/London
BEGIN:DAYLIGHT
TZOFFSETFROM:+0000
TZOFFSETTO:+0100
TZNAME:BST
DTSTART:20190331T010000
END:DAYLIGHT
BEGIN:STANDARD
TZOFFSETFROM:+0100
TZOFFSETTO:+0000
TZNAME:GMT
DTSTART:20191027T010000
END:STANDARD
END:VTIMEZONE
BEGIN:VEVENT
DTSTART;TZID=Europe/London:20190207T121500
DTEND;TZID=Europe/London:20190207T131500
DTSTAMP:20260422T143518
CREATED:20190130T221617Z
LAST-MODIFIED:20190130T222233Z
UID:5287-1549541700-1549545300@cobhcommunitycentre.ie
SUMMARY:Swels Yoga St. Colman's Wing 1
DESCRIPTION:Weekly Group
URL:https://cobhcommunitycentre.ie/event/swels-yoga-st-colmans-wing-1-2/
END:VEVENT
BEGIN:VEVENT
DTSTART;TZID=Europe/London:20190207T110000
DTEND;TZID=Europe/London:20190207T120000
DTSTAMP:20260422T143518
CREATED:20190130T221615Z
LAST-MODIFIED:20190130T223027Z
UID:5283-1549537200-1549540800@cobhcommunitycentre.ie
SUMMARY:Swels Cards Room 13
DESCRIPTION:Weekly Group
URL:https://cobhcommunitycentre.ie/event/swels-cards-room-13-2/
END:VEVENT
BEGIN:VEVENT
DTSTART;TZID=Europe/London:20190207T090000
DTEND;TZID=Europe/London:20190207T100000
DTSTAMP:20260422T143518
CREATED:20190129T234947Z
LAST-MODIFIED:20190130T223002Z
UID:5026-1549530000-1549533600@cobhcommunitycentre.ie
SUMMARY:Carmel O'Regan Fitness St.Colman's Wing 1
DESCRIPTION:Pilates
URL:https://cobhcommunitycentre.ie/event/carmel-oregan-fitness-st-colmans-wing-1-6/
END:VEVENT
BEGIN:VEVENT
DTSTART;TZID=Europe/London:20190206T190000
DTEND;TZID=Europe/London:20190206T210000
DTSTAMP:20260422T143518
CREATED:20190130T221603Z
LAST-MODIFIED:20190130T223017Z
UID:5249-1549479600-1549486800@cobhcommunitycentre.ie
SUMMARY:Fencing Class Main Hall
DESCRIPTION:Weekly Group
URL:https://cobhcommunitycentre.ie/event/fencing-class-main-hall/
END:VEVENT
BEGIN:VEVENT
DTSTART;TZID=Europe/London:20190206T190000
DTEND;TZID=Europe/London:20190206T200000
DTSTAMP:20260422T143518
CREATED:20190130T221557Z
LAST-MODIFIED:20190206T233937Z
UID:5233-1549479600-1549483200@cobhcommunitycentre.ie
SUMMARY:Ber McCall Yoga Rooms 8 & 9
DESCRIPTION:(6 week block)
URL:https://cobhcommunitycentre.ie/event/ber-mccall-yoga-rooms-8-9/
END:VEVENT
BEGIN:VEVENT
DTSTART;TZID=Europe/London:20190206T173000
DTEND;TZID=Europe/London:20190206T183000
DTSTAMP:20260422T143518
CREATED:20190130T221552Z
LAST-MODIFIED:20190130T223008Z
UID:5220-1549474200-1549477800@cobhcommunitycentre.ie
SUMMARY:Cobh Basketball Dwayne Main Hall
DESCRIPTION:Weekly Group
URL:https://cobhcommunitycentre.ie/event/cobh-basketball-dwayne-main-hall-2/
END:VEVENT
BEGIN:VEVENT
DTSTART;TZID=Europe/London:20190206T163000
DTEND;TZID=Europe/London:20190206T190000
DTSTAMP:20260422T143518
CREATED:20190129T234940Z
LAST-MODIFIED:20190130T222957Z
UID:5009-1549470600-1549479600@cobhcommunitycentre.ie
SUMMARY:Cowhie - Ryan Irish Dancing Room 14
DESCRIPTION:Weekly Group
URL:https://cobhcommunitycentre.ie/event/cowhie-ryan-irish-dancing-room-14-2/
END:VEVENT
BEGIN:VEVENT
DTSTART;TZID=Europe/London:20190206T153000
DTEND;TZID=Europe/London:20190206T193000
DTSTAMP:20260422T143518
CREATED:20190129T234947Z
LAST-MODIFIED:20190130T223004Z
UID:5030-1549467000-1549481400@cobhcommunitycentre.ie
SUMMARY:Sarah Callanan St.Colman's Wing 1
DESCRIPTION:School of Ballet
URL:https://cobhcommunitycentre.ie/event/sarah-callanan-st-colmans-wing-1-2/
END:VEVENT
BEGIN:VEVENT
DTSTART;TZID=Europe/London:20190206T144500
DTEND;TZID=Europe/London:20190206T164500
DTSTAMP:20260422T143518
CREATED:20190206T233057Z
LAST-MODIFIED:20190206T233057Z
UID:5447-1549464300-1549471500@cobhcommunitycentre.ie
SUMMARY:Footprints Rooms 8 & 9
DESCRIPTION:Autism and SPD Friendship/Social Group
URL:https://cobhcommunitycentre.ie/event/footprints-rooms-8-9/
END:VEVENT
BEGIN:VEVENT
DTSTART;TZID=Europe/London:20190206T110000
DTEND;TZID=Europe/London:20190206T120000
DTSTAMP:20260422T143518
CREATED:20190130T221612Z
LAST-MODIFIED:20190130T223024Z
UID:5274-1549450800-1549454400@cobhcommunitycentre.ie
SUMMARY:Swels Fit Walk Main Hall
DESCRIPTION:Weekly Group
URL:https://cobhcommunitycentre.ie/event/swels-fit-walk-main-hall/
END:VEVENT
BEGIN:VEVENT
DTSTART;TZID=Europe/London:20190205T200000
DTEND;TZID=Europe/London:20190205T210000
DTSTAMP:20260422T143518
CREATED:20190129T234945Z
LAST-MODIFIED:20190130T223002Z
UID:5022-1549396800-1549400400@cobhcommunitycentre.ie
SUMMARY:Carmel O'Regan Fitness St.Colman's Wing 1
DESCRIPTION:Pilates
URL:https://cobhcommunitycentre.ie/event/carmel-oregan-fitness-st-colmans-wing-1-2/
END:VEVENT
BEGIN:VEVENT
DTSTART;TZID=Europe/London:20190205T180000
DTEND;TZID=Europe/London:20190205T220000
DTSTAMP:20260422T143518
CREATED:20190129T234950Z
LAST-MODIFIED:20190130T223007Z
UID:5037-1549389600-1549404000@cobhcommunitycentre.ie
SUMMARY:Cork School of Judo Room 14
DESCRIPTION:Weekly Group
URL:https://cobhcommunitycentre.ie/event/cork-school-of-judo-room-14-3/
END:VEVENT
BEGIN:VEVENT
DTSTART;TZID=Europe/London:20190205T163000
DTEND;TZID=Europe/London:20190205T173000
DTSTAMP:20260422T143518
CREATED:20190126T130700Z
LAST-MODIFIED:20190206T234422Z
UID:4936-1549384200-1549387800@cobhcommunitycentre.ie
SUMMARY:Cobh Youth Services Main Hall
DESCRIPTION:Weekly Group
URL:https://cobhcommunitycentre.ie/event/cobh-youth-services-main-hall-2/
END:VEVENT
BEGIN:VEVENT
DTSTART;TZID=Europe/London:20190205T150000
DTEND;TZID=Europe/London:20190205T160000
DTSTAMP:20260422T143518
CREATED:20190130T221610Z
LAST-MODIFIED:20190130T223023Z
UID:5270-1549378800-1549382400@cobhcommunitycentre.ie
SUMMARY:Swels Dance Class St. Colman's Wing 1
DESCRIPTION:Weekly Group
URL:https://cobhcommunitycentre.ie/event/swels-dance-class-st-colmans-wing-1/
END:VEVENT
BEGIN:VEVENT
DTSTART;TZID=Europe/London:20190205T110000
DTEND;TZID=Europe/London:20190205T120000
DTSTAMP:20260422T143518
CREATED:20190130T221613Z
LAST-MODIFIED:20190130T223025Z
UID:5278-1549364400-1549368000@cobhcommunitycentre.ie
SUMMARY:Swels Singing St. Colman's Wing 1
DESCRIPTION:Weekly Group
URL:https://cobhcommunitycentre.ie/event/swels-singing-st-colmans-wing-1/
END:VEVENT
BEGIN:VEVENT
DTSTART;TZID=Europe/London:20190204T200000
DTEND;TZID=Europe/London:20190204T210000
DTSTAMP:20260422T143518
CREATED:20190207T000539Z
LAST-MODIFIED:20190207T000539Z
UID:5461-1549310400-1549314000@cobhcommunitycentre.ie
SUMMARY:Cobh Triathlon Club Rooms 8 & 9
DESCRIPTION:Every Monday
URL:https://cobhcommunitycentre.ie/event/cobh-triathlon-club-rooms-8-9/
END:VEVENT
BEGIN:VEVENT
DTSTART;TZID=Europe/London:20190204T200000
DTEND;TZID=Europe/London:20190204T204500
DTSTAMP:20260422T143518
CREATED:20190129T234944Z
LAST-MODIFIED:20190130T223000Z
UID:5018-1549310400-1549313100@cobhcommunitycentre.ie
SUMMARY:Carmel O'Regan Fitness Room 13
DESCRIPTION:Step & Tone
URL:https://cobhcommunitycentre.ie/event/carmel-oregan-fitness-room-13-2/
END:VEVENT
BEGIN:VEVENT
DTSTART;TZID=Europe/London:20190204T190000
DTEND;TZID=Europe/London:20190204T220000
DTSTAMP:20260422T143518
CREATED:20190129T234943Z
LAST-MODIFIED:20190130T222958Z
UID:5016-1549306800-1549317600@cobhcommunitycentre.ie
SUMMARY:Cobh Flower & Horticulture Club Room 14 (This event takes place one Monday a month\, check with centre re: dates)
DESCRIPTION:Flower Arranging
URL:https://cobhcommunitycentre.ie/event/cobh-flower-horticulture-club-room-14-this-event-takes-place-one-monday-a-month-check-with-centre-re-dates/
END:VEVENT
BEGIN:VEVENT
DTSTART;TZID=Europe/London:20190204T180000
DTEND;TZID=Europe/London:20190204T190000
DTSTAMP:20260422T143518
CREATED:20190126T130658Z
LAST-MODIFIED:20190130T222944Z
UID:4932-1549303200-1549306800@cobhcommunitycentre.ie
SUMMARY:Cobh Girls Basketball Cathy Main Hall
DESCRIPTION:Weekly Basketball
URL:https://cobhcommunitycentre.ie/event/cobh-girls-basketball-cathy-main-hall-2/
END:VEVENT
BEGIN:VEVENT
DTSTART;TZID=Europe/London:20190204T170000
DTEND;TZID=Europe/London:20190204T210000
DTSTAMP:20260422T143518
CREATED:20190129T234937Z
LAST-MODIFIED:20190130T222954Z
UID:4998-1549299600-1549314000@cobhcommunitycentre.ie
SUMMARY:Rosewood Grove Room 10
DESCRIPTION:Weekly Group
URL:https://cobhcommunitycentre.ie/event/rosewood-grove-room-10-3/
END:VEVENT
BEGIN:VEVENT
DTSTART;TZID=Europe/London:20190204T170000
DTEND;TZID=Europe/London:20190204T180000
DTSTAMP:20260422T143518
CREATED:20190126T130657Z
LAST-MODIFIED:20190130T222943Z
UID:4928-1549299600-1549303200@cobhcommunitycentre.ie
SUMMARY:Cobh Basketball Club Dominic Main Hall
DESCRIPTION:Weekly Basketball
URL:https://cobhcommunitycentre.ie/event/cobh-basketball-club-dominic-main-hall-2/
END:VEVENT
BEGIN:VEVENT
DTSTART;TZID=Europe/London:20190204T163000
DTEND;TZID=Europe/London:20190204T213000
DTSTAMP:20260422T143518
CREATED:20190130T222950Z
LAST-MODIFIED:20190130T222950Z
UID:5410-1549297800-1549315800@cobhcommunitycentre.ie
SUMMARY:Irish Girl Guides St. Colman's Wing 1 & 2
DESCRIPTION:Weekly Group
URL:https://cobhcommunitycentre.ie/event/irish-girl-guides-st-colmans-wing-1-2-93/
END:VEVENT
BEGIN:VEVENT
DTSTART;TZID=Europe/London:20190204T154500
DTEND;TZID=Europe/London:20190204T170000
DTSTAMP:20260422T143518
CREATED:20190207T000539Z
LAST-MODIFIED:20190207T000539Z
UID:5457-1549295100-1549299600@cobhcommunitycentre.ie
SUMMARY:Designer Minds Rooms 8 & 9
DESCRIPTION:Every Monday
URL:https://cobhcommunitycentre.ie/event/designer-minds-rooms-8-9/
END:VEVENT
BEGIN:VEVENT
DTSTART;TZID=Europe/London:20190204T144500
DTEND;TZID=Europe/London:20190204T164500
DTSTAMP:20260422T143518
CREATED:20190126T130656Z
LAST-MODIFIED:20190130T222943Z
UID:4924-1549291500-1549298700@cobhcommunitycentre.ie
SUMMARY:Ballymore Cobh Athletics Club Main Hall
DESCRIPTION:Sports Group
URL:https://cobhcommunitycentre.ie/event/ballymore-cobh-athletics-club-main-hall-2/
END:VEVENT
BEGIN:VEVENT
DTSTART;TZID=Europe/London:20190204T100000
DTEND;TZID=Europe/London:20190204T120000
DTSTAMP:20260422T143518
CREATED:20190126T130646Z
LAST-MODIFIED:20190130T222933Z
UID:4920-1549274400-1549281600@cobhcommunitycentre.ie
SUMMARY:Swels Active Retirement Main Hall
DESCRIPTION:Weekly Monday Meeting for Swels
URL:https://cobhcommunitycentre.ie/event/swels-active-retirement-main-hall-2/
END:VEVENT
BEGIN:VEVENT
DTSTART;TZID=Europe/London:20190204T090000
DTEND;TZID=Europe/London:20190204T163000
DTSTAMP:20260422T143518
CREATED:20190207T000555Z
LAST-MODIFIED:20190207T000555Z
UID:5486-1549270800-1549297800@cobhcommunitycentre.ie
SUMMARY:Tourism Course St. Colman's Wing 1
DESCRIPTION:Until 29th April
URL:https://cobhcommunitycentre.ie/event/tourism-course-st-colmans-wing-1/
END:VEVENT
BEGIN:VEVENT
DTSTART;TZID=Europe/London:20190204T083000
DTEND;TZID=Europe/London:20190208T153000
DTSTAMP:20260422T143518
CREATED:20190126T130701Z
LAST-MODIFIED:20190130T222947Z
UID:4940-1549269000-1549639800@cobhcommunitycentre.ie
SUMMARY:Lorraine's Montessori Room 14
DESCRIPTION:Montessori
URL:https://cobhcommunitycentre.ie/event/lorraines-montessori-room-14-2/
END:VEVENT
BEGIN:VEVENT
DTSTART;TZID=Europe/London:20190203T100000
DTEND;TZID=Europe/London:20190203T140000
DTSTAMP:20260422T143518
CREATED:20190130T221559Z
LAST-MODIFIED:20190130T223014Z
UID:5241-1549188000-1549202400@cobhcommunitycentre.ie
SUMMARY:Rebel County Archery Club Main Hall
DESCRIPTION:Weekly Group
URL:https://cobhcommunitycentre.ie/event/rebel-county-archery-club-main-hall/
END:VEVENT
BEGIN:VEVENT
DTSTART;TZID=Europe/London:20190203T100000
DTEND;TZID=Europe/London:20190203T130000
DTSTAMP:20260422T143518
CREATED:20190130T221608Z
LAST-MODIFIED:20190130T223021Z
UID:5266-1549188000-1549198800@cobhcommunitycentre.ie
SUMMARY:Good News Christian Church
DESCRIPTION:Weekly Group
URL:https://cobhcommunitycentre.ie/event/good-news-christian-church/
END:VEVENT
BEGIN:VEVENT
DTSTART;TZID=Europe/London:20190202T104500
DTEND;TZID=Europe/London:20190203T131500
DTSTAMP:20260422T143518
CREATED:20190130T222949Z
LAST-MODIFIED:20190130T222949Z
UID:5409-1549104300-1549199700@cobhcommunitycentre.ie
SUMMARY:Irish Girl Guides St. Colman's Wing 1 & 2
DESCRIPTION:Weekly Group
URL:https://cobhcommunitycentre.ie/event/irish-girl-guides-st-colmans-wing-1-2-92/
END:VEVENT
END:VCALENDAR