BEGIN:VCALENDAR
VERSION:2.0
PRODID:-//Cobh Great Island Community Centre - ECPv6.11.1//NONSGML v1.0//EN
CALSCALE:GREGORIAN
METHOD:PUBLISH
X-ORIGINAL-URL:https://cobhcommunitycentre.ie
X-WR-CALDESC:Events for Cobh Great Island Community Centre
REFRESH-INTERVAL;VALUE=DURATION:PT1H
X-Robots-Tag:noindex
X-PUBLISHED-TTL:PT1H
BEGIN:VTIMEZONE
TZID:Europe/London
BEGIN:DAYLIGHT
TZOFFSETFROM:+0000
TZOFFSETTO:+0100
TZNAME:BST
DTSTART:20190331T010000
END:DAYLIGHT
BEGIN:STANDARD
TZOFFSETFROM:+0100
TZOFFSETTO:+0000
TZNAME:GMT
DTSTART:20191027T010000
END:STANDARD
END:VTIMEZONE
BEGIN:VEVENT
DTSTART;TZID=Europe/London:20190204T170000
DTEND;TZID=Europe/London:20190204T180000
DTSTAMP:20260422T171203
CREATED:20190126T130657Z
LAST-MODIFIED:20190130T222943Z
UID:4928-1549299600-1549303200@cobhcommunitycentre.ie
SUMMARY:Cobh Basketball Club Dominic Main Hall
DESCRIPTION:Weekly Basketball
URL:https://cobhcommunitycentre.ie/event/cobh-basketball-club-dominic-main-hall-2/
END:VEVENT
BEGIN:VEVENT
DTSTART;TZID=Europe/London:20190204T163000
DTEND;TZID=Europe/London:20190204T213000
DTSTAMP:20260422T171203
CREATED:20190130T222950Z
LAST-MODIFIED:20190130T222950Z
UID:5410-1549297800-1549315800@cobhcommunitycentre.ie
SUMMARY:Irish Girl Guides St. Colman's Wing 1 & 2
DESCRIPTION:Weekly Group
URL:https://cobhcommunitycentre.ie/event/irish-girl-guides-st-colmans-wing-1-2-93/
END:VEVENT
BEGIN:VEVENT
DTSTART;TZID=Europe/London:20190204T154500
DTEND;TZID=Europe/London:20190204T170000
DTSTAMP:20260422T171203
CREATED:20190207T000539Z
LAST-MODIFIED:20190207T000539Z
UID:5457-1549295100-1549299600@cobhcommunitycentre.ie
SUMMARY:Designer Minds Rooms 8 & 9
DESCRIPTION:Every Monday
URL:https://cobhcommunitycentre.ie/event/designer-minds-rooms-8-9/
END:VEVENT
BEGIN:VEVENT
DTSTART;TZID=Europe/London:20190204T144500
DTEND;TZID=Europe/London:20190204T164500
DTSTAMP:20260422T171203
CREATED:20190126T130656Z
LAST-MODIFIED:20190130T222943Z
UID:4924-1549291500-1549298700@cobhcommunitycentre.ie
SUMMARY:Ballymore Cobh Athletics Club Main Hall
DESCRIPTION:Sports Group
URL:https://cobhcommunitycentre.ie/event/ballymore-cobh-athletics-club-main-hall-2/
END:VEVENT
BEGIN:VEVENT
DTSTART;TZID=Europe/London:20190204T100000
DTEND;TZID=Europe/London:20190204T120000
DTSTAMP:20260422T171203
CREATED:20190126T130646Z
LAST-MODIFIED:20190130T222933Z
UID:4920-1549274400-1549281600@cobhcommunitycentre.ie
SUMMARY:Swels Active Retirement Main Hall
DESCRIPTION:Weekly Monday Meeting for Swels
URL:https://cobhcommunitycentre.ie/event/swels-active-retirement-main-hall-2/
END:VEVENT
BEGIN:VEVENT
DTSTART;TZID=Europe/London:20190204T090000
DTEND;TZID=Europe/London:20190204T163000
DTSTAMP:20260422T171203
CREATED:20190207T000555Z
LAST-MODIFIED:20190207T000555Z
UID:5486-1549270800-1549297800@cobhcommunitycentre.ie
SUMMARY:Tourism Course St. Colman's Wing 1
DESCRIPTION:Until 29th April
URL:https://cobhcommunitycentre.ie/event/tourism-course-st-colmans-wing-1/
END:VEVENT
BEGIN:VEVENT
DTSTART;TZID=Europe/London:20190204T083000
DTEND;TZID=Europe/London:20190208T153000
DTSTAMP:20260422T171203
CREATED:20190126T130701Z
LAST-MODIFIED:20190130T222947Z
UID:4940-1549269000-1549639800@cobhcommunitycentre.ie
SUMMARY:Lorraine's Montessori Room 14
DESCRIPTION:Montessori
URL:https://cobhcommunitycentre.ie/event/lorraines-montessori-room-14-2/
END:VEVENT
BEGIN:VEVENT
DTSTART;TZID=Europe/London:20190203T100000
DTEND;TZID=Europe/London:20190203T140000
DTSTAMP:20260422T171203
CREATED:20190130T221559Z
LAST-MODIFIED:20190130T223014Z
UID:5241-1549188000-1549202400@cobhcommunitycentre.ie
SUMMARY:Rebel County Archery Club Main Hall
DESCRIPTION:Weekly Group
URL:https://cobhcommunitycentre.ie/event/rebel-county-archery-club-main-hall/
END:VEVENT
BEGIN:VEVENT
DTSTART;TZID=Europe/London:20190203T100000
DTEND;TZID=Europe/London:20190203T130000
DTSTAMP:20260422T171203
CREATED:20190130T221608Z
LAST-MODIFIED:20190130T223021Z
UID:5266-1549188000-1549198800@cobhcommunitycentre.ie
SUMMARY:Good News Christian Church
DESCRIPTION:Weekly Group
URL:https://cobhcommunitycentre.ie/event/good-news-christian-church/
END:VEVENT
BEGIN:VEVENT
DTSTART;TZID=Europe/London:20190202T104500
DTEND;TZID=Europe/London:20190203T131500
DTSTAMP:20260422T171203
CREATED:20190130T222949Z
LAST-MODIFIED:20190130T222949Z
UID:5409-1549104300-1549199700@cobhcommunitycentre.ie
SUMMARY:Irish Girl Guides St. Colman's Wing 1 & 2
DESCRIPTION:Weekly Group
URL:https://cobhcommunitycentre.ie/event/irish-girl-guides-st-colmans-wing-1-2-92/
END:VEVENT
BEGIN:VEVENT
DTSTART;TZID=Europe/London:20190202T100000
DTEND;TZID=Europe/London:20190202T130000
DTSTAMP:20260422T171203
CREATED:20190130T221556Z
LAST-MODIFIED:20190130T223011Z
UID:5227-1549101600-1549112400@cobhcommunitycentre.ie
SUMMARY:Basketball Boy's Main Hall
DESCRIPTION:Weekly Group
URL:https://cobhcommunitycentre.ie/event/basketball-boys-main-hall/
END:VEVENT
BEGIN:VEVENT
DTSTART;TZID=Europe/London:20190202T090000
DTEND;TZID=Europe/London:20190202T170000
DTSTAMP:20260422T171203
CREATED:20190129T234937Z
LAST-MODIFIED:20190130T222954Z
UID:4997-1549098000-1549126800@cobhcommunitycentre.ie
SUMMARY:Rosewood Grove Room 14
DESCRIPTION:Weekly Group
URL:https://cobhcommunitycentre.ie/event/rosewood-grove-room-14/
END:VEVENT
BEGIN:VEVENT
DTSTART;TZID=Europe/London:20190202T083000
DTEND;TZID=Europe/London:20190202T123000
DTSTAMP:20260422T171203
CREATED:20190130T221608Z
LAST-MODIFIED:20190130T223021Z
UID:5262-1549096200-1549110600@cobhcommunitycentre.ie
SUMMARY:Slimming World Rooms 8 & 9
DESCRIPTION:Weekly Group
URL:https://cobhcommunitycentre.ie/event/slimming-world-rooms-8-9/
END:VEVENT
BEGIN:VEVENT
DTSTART;TZID=Europe/London:20190201T201500
DTEND;TZID=Europe/London:20190201T221500
DTSTAMP:20260422T171203
CREATED:20190126T131701Z
LAST-MODIFIED:20190130T222947Z
UID:4967-1549052100-1549059300@cobhcommunitycentre.ie
SUMMARY:Bingo Main Hall
DESCRIPTION:Every Friday Night
URL:https://cobhcommunitycentre.ie/event/bingo-main-hall/
END:VEVENT
BEGIN:VEVENT
DTSTART;TZID=Europe/London:20190201T193000
DTEND;TZID=Europe/London:20190201T223000
DTSTAMP:20260422T171203
CREATED:20190130T221554Z
LAST-MODIFIED:20190130T223010Z
UID:5223-1549049400-1549060200@cobhcommunitycentre.ie
SUMMARY:Cobh Gramophone Society Rooms 8 & 9
DESCRIPTION:Weekly Group
URL:https://cobhcommunitycentre.ie/event/cobh-gramophone-society-rooms-8-9/
END:VEVENT
BEGIN:VEVENT
DTSTART;TZID=Europe/London:20190201T180000
DTEND;TZID=Europe/London:20190201T201500
DTSTAMP:20260422T171203
CREATED:20190130T222949Z
LAST-MODIFIED:20190130T222949Z
UID:5408-1549044000-1549052100@cobhcommunitycentre.ie
SUMMARY:Irish Girl Guides St. Colman's Wing 1 & 2
DESCRIPTION:Weekly Group
URL:https://cobhcommunitycentre.ie/event/irish-girl-guides-st-colmans-wing-1-2-91/
END:VEVENT
BEGIN:VEVENT
DTSTART;TZID=Europe/London:20190201T170000
DTEND;TZID=Europe/London:20190201T203000
DTSTAMP:20260422T171203
CREATED:20190130T221606Z
LAST-MODIFIED:20190130T223020Z
UID:5258-1549040400-1549053000@cobhcommunitycentre.ie
SUMMARY:Red Cross Cobh Branch Room 14
DESCRIPTION:Weekly Group
URL:https://cobhcommunitycentre.ie/event/red-cross-cobh-branch-room-14/
END:VEVENT
BEGIN:VEVENT
DTSTART;TZID=Europe/London:20190131T203000
DTEND;TZID=Europe/London:20190131T213000
DTSTAMP:20260422T171203
CREATED:20190130T221601Z
LAST-MODIFIED:20190130T223016Z
UID:5245-1548966600-1548970200@cobhcommunitycentre.ie
SUMMARY:Cobh Korean Kickboxing Club Room 14
DESCRIPTION:Weekly Group
URL:https://cobhcommunitycentre.ie/event/cobh-korean-kickboxing-club-room-14/
END:VEVENT
BEGIN:VEVENT
DTSTART;TZID=Europe/London:20190131T193000
DTEND;TZID=Europe/London:20190131T213000
DTSTAMP:20260422T171203
CREATED:20190130T221559Z
LAST-MODIFIED:20190130T223014Z
UID:5237-1548963000-1548970200@cobhcommunitycentre.ie
SUMMARY:Declan Roche Dancing Main Hall
DESCRIPTION:Weekly Group
URL:https://cobhcommunitycentre.ie/event/declan-roche-dancing-main-hall/
END:VEVENT
BEGIN:VEVENT
DTSTART;TZID=Europe/London:20190131T183000
DTEND;TZID=Europe/London:20190131T203000
DTSTAMP:20260422T171203
CREATED:20190129T234950Z
LAST-MODIFIED:20190130T223007Z
UID:5036-1548959400-1548966600@cobhcommunitycentre.ie
SUMMARY:Cork School of Judo Room 14
DESCRIPTION:Weekly Group
URL:https://cobhcommunitycentre.ie/event/cork-school-of-judo-room-14-2/
END:VEVENT
BEGIN:VEVENT
DTSTART;TZID=Europe/London:20190131T180000
DTEND;TZID=Europe/London:20190131T200000
DTSTAMP:20260422T171203
CREATED:20190129T234940Z
LAST-MODIFIED:20190130T222957Z
UID:5008-1548957600-1548964800@cobhcommunitycentre.ie
SUMMARY:Cowhie - Ryan Irish Dancing Rooms 8 & 9
DESCRIPTION:Weekly Group
URL:https://cobhcommunitycentre.ie/event/cowhie-ryan-irish-dancing-rooms-8-9/
END:VEVENT
BEGIN:VEVENT
DTSTART;TZID=Europe/London:20190131T170000
DTEND;TZID=Europe/London:20190131T210000
DTSTAMP:20260422T171203
CREATED:20190129T234937Z
LAST-MODIFIED:20190130T222952Z
UID:4996-1548954000-1548968400@cobhcommunitycentre.ie
SUMMARY:Rosewood Grove Room 10
DESCRIPTION:Weekly Group
URL:https://cobhcommunitycentre.ie/event/rosewood-grove-room-10-2/
END:VEVENT
BEGIN:VEVENT
DTSTART;TZID=Europe/London:20190131T163000
DTEND;TZID=Europe/London:20190131T184500
DTSTAMP:20260422T171203
CREATED:20190130T222949Z
LAST-MODIFIED:20190130T222949Z
UID:5407-1548952200-1548960300@cobhcommunitycentre.ie
SUMMARY:Irish Girl Guides St. Colman's Wing 1 & 2
DESCRIPTION:Weekly Group
URL:https://cobhcommunitycentre.ie/event/irish-girl-guides-st-colmans-wing-1-2-90/
END:VEVENT
BEGIN:VEVENT
DTSTART;TZID=Europe/London:20190131T140000
DTEND;TZID=Europe/London:20190131T163000
DTSTAMP:20260422T171203
CREATED:20190130T221605Z
LAST-MODIFIED:20190130T223018Z
UID:5254-1548943200-1548952200@cobhcommunitycentre.ie
SUMMARY:Bridge Cards Group Rooms 8 & 9
DESCRIPTION:Weekly Group
URL:https://cobhcommunitycentre.ie/event/bridge-cards-group-rooms-8-9/
END:VEVENT
BEGIN:VEVENT
DTSTART;TZID=Europe/London:20190131T134000
DTEND;TZID=Europe/London:20190131T154000
DTSTAMP:20260422T171203
CREATED:20190129T234949Z
LAST-MODIFIED:20190130T223005Z
UID:5032-1548942000-1548949200@cobhcommunitycentre.ie
SUMMARY:Cobh Children's Theatre Main Hall
DESCRIPTION:Drama Class
URL:https://cobhcommunitycentre.ie/event/cobh-childrens-theatre-main-hall/
END:VEVENT
BEGIN:VEVENT
DTSTART;TZID=Europe/London:20190131T121500
DTEND;TZID=Europe/London:20190131T131500
DTSTAMP:20260422T171203
CREATED:20190130T221615Z
LAST-MODIFIED:20190130T223027Z
UID:5286-1548936900-1548940500@cobhcommunitycentre.ie
SUMMARY:Swels Yoga St. Colman's Wing 1
DESCRIPTION:Weekly Group
URL:https://cobhcommunitycentre.ie/event/swels-yoga-st-colmans-wing-1/
END:VEVENT
BEGIN:VEVENT
DTSTART;TZID=Europe/London:20190131T110000
DTEND;TZID=Europe/London:20190131T120000
DTSTAMP:20260422T171203
CREATED:20190130T221615Z
LAST-MODIFIED:20190130T223027Z
UID:5282-1548932400-1548936000@cobhcommunitycentre.ie
SUMMARY:Swels Cards Room 13
DESCRIPTION:Weekly Group
URL:https://cobhcommunitycentre.ie/event/swels-cards-room-13/
END:VEVENT
BEGIN:VEVENT
DTSTART;TZID=Europe/London:20190131T090000
DTEND;TZID=Europe/London:20190131T100000
DTSTAMP:20260422T171203
CREATED:20190129T234946Z
LAST-MODIFIED:20190130T223002Z
UID:5025-1548925200-1548928800@cobhcommunitycentre.ie
SUMMARY:Carmel O'Regan Fitness St.Colman's Wing 1
DESCRIPTION:Pilates
URL:https://cobhcommunitycentre.ie/event/carmel-oregan-fitness-st-colmans-wing-1-5/
END:VEVENT
BEGIN:VEVENT
DTSTART;TZID=Europe/London:20190130T173000
DTEND;TZID=Europe/London:20190130T183000
DTSTAMP:20260422T171203
CREATED:20190130T221552Z
LAST-MODIFIED:20190130T223008Z
UID:5219-1548869400-1548873000@cobhcommunitycentre.ie
SUMMARY:Cobh Basketball Dwayne Main Hall
DESCRIPTION:Weekly Group
URL:https://cobhcommunitycentre.ie/event/cobh-basketball-dwayne-main-hall/
END:VEVENT
BEGIN:VEVENT
DTSTART;TZID=Europe/London:20190130T163000
DTEND;TZID=Europe/London:20190130T190000
DTSTAMP:20260422T171203
CREATED:20190129T234940Z
LAST-MODIFIED:20190130T222957Z
UID:5007-1548865800-1548874800@cobhcommunitycentre.ie
SUMMARY:Cowhie - Ryan Irish Dancing Room 14
DESCRIPTION:Weekly Group
URL:https://cobhcommunitycentre.ie/event/cowhie-ryan-irish-dancing-room-14/
END:VEVENT
END:VCALENDAR