BEGIN:VCALENDAR
VERSION:2.0
PRODID:-//Cobh Great Island Community Centre - ECPv6.11.1//NONSGML v1.0//EN
CALSCALE:GREGORIAN
METHOD:PUBLISH
X-ORIGINAL-URL:https://cobhcommunitycentre.ie
X-WR-CALDESC:Events for Cobh Great Island Community Centre
REFRESH-INTERVAL;VALUE=DURATION:PT1H
X-Robots-Tag:noindex
X-PUBLISHED-TTL:PT1H
BEGIN:VTIMEZONE
TZID:Europe/London
BEGIN:DAYLIGHT
TZOFFSETFROM:+0000
TZOFFSETTO:+0100
TZNAME:BST
DTSTART:20180325T010000
END:DAYLIGHT
BEGIN:STANDARD
TZOFFSETFROM:+0100
TZOFFSETTO:+0000
TZNAME:GMT
DTSTART:20181028T010000
END:STANDARD
BEGIN:DAYLIGHT
TZOFFSETFROM:+0000
TZOFFSETTO:+0100
TZNAME:BST
DTSTART:20190331T010000
END:DAYLIGHT
BEGIN:STANDARD
TZOFFSETFROM:+0100
TZOFFSETTO:+0000
TZNAME:GMT
DTSTART:20191027T010000
END:STANDARD
END:VTIMEZONE
BEGIN:VEVENT
DTSTART;TZID=Europe/London:20190128T100000
DTEND;TZID=Europe/London:20190128T120000
DTSTAMP:20260422T223422
CREATED:20190126T130646Z
LAST-MODIFIED:20190130T222933Z
UID:4919-1548669600-1548676800@cobhcommunitycentre.ie
SUMMARY:Swels Active Retirement Main Hall
DESCRIPTION:Weekly Monday Meeting for Swels
URL:https://cobhcommunitycentre.ie/event/swels-active-retirement-main-hall/
END:VEVENT
BEGIN:VEVENT
DTSTART;TZID=Europe/London:20190128T083000
DTEND;TZID=Europe/London:20190201T153000
DTSTAMP:20260422T223422
CREATED:20190126T130701Z
LAST-MODIFIED:20190130T222946Z
UID:4939-1548664200-1549035000@cobhcommunitycentre.ie
SUMMARY:Lorraine's Montessori Room 14
DESCRIPTION:Montessori
URL:https://cobhcommunitycentre.ie/event/lorraines-montessori-room-14/
END:VEVENT
BEGIN:VEVENT
DTSTART;TZID=Europe/London:20190126T140000
DTEND;TZID=Europe/London:20190126T180000
DTSTAMP:20260422T223422
CREATED:20190117T131633Z
LAST-MODIFIED:20190130T231912Z
UID:4708-1548511200-1548525600@cobhcommunitycentre.ie
SUMMARY:Cardiac First Responders Community Course
DESCRIPTION:  \n  \n  \n \nCobh (Great Island) Community Centre in conjunction with Irish Red Cross (Cobh Branch) will be running a Cardiac First Responder Community Course for the public on Saturday 26th January\, 2019 from 2pm-6pm in Cobh Community Centre. \n  \n 
URL:https://cobhcommunitycentre.ie/event/cardiac-first-responders-community-course/
ATTACH;FMTTYPE=image/jpeg:https://cobhcommunitycentre.ie/wp-content/uploads/2019/01/12932847_1834333006794098_205988233919161751_n.jpg
END:VEVENT
BEGIN:VEVENT
DTSTART;TZID=Europe/London:20190125T200000
DTEND;TZID=Europe/London:20190125T220000
DTSTAMP:20260422T223422
CREATED:20190117T130552Z
LAST-MODIFIED:20190130T231912Z
UID:4703-1548446400-1548453600@cobhcommunitycentre.ie
SUMMARY:Bingo Every Friday Night from 8pm
DESCRIPTION:Bingo Every Friday Night from 8pm\nWith up to €1200 in prizes to be won including rollover snowball 💶
URL:https://cobhcommunitycentre.ie/event/bingo-every-friday-night-from-8pm/
ATTACH;FMTTYPE=image/jpeg:https://cobhcommunitycentre.ie/wp-content/uploads/2019/01/50003238_1420913731382573_7215369938578440192_n.jpg
END:VEVENT
BEGIN:VEVENT
DTSTART;VALUE=DATE:20181213
DTEND;VALUE=DATE:20181214
DTSTAMP:20260422T223422
CREATED:20181010T151049Z
LAST-MODIFIED:20190130T231912Z
UID:4512-1544659200-1544745599@cobhcommunitycentre.ie
SUMMARY:Christmas Concert
DESCRIPTION:Christmas Concert starts at 7.30pm til late
URL:https://cobhcommunitycentre.ie/event/christmas-concert/
END:VEVENT
BEGIN:VEVENT
DTSTART;VALUE=DATE:20181202
DTEND;VALUE=DATE:20181203
DTSTAMP:20260422T223422
CREATED:20181010T152526Z
LAST-MODIFIED:20190130T231912Z
UID:4533-1543708800-1543795199@cobhcommunitycentre.ie
SUMMARY:Christmas Arts & Crafts Fair
DESCRIPTION:
URL:https://cobhcommunitycentre.ie/event/christmas-arts-crafts-fair/
END:VEVENT
BEGIN:VEVENT
DTSTART;VALUE=DATE:20180924
DTEND;VALUE=DATE:20180925
DTSTAMP:20260422T223422
CREATED:20180906T113452Z
LAST-MODIFIED:20190130T231912Z
UID:4468-1537747200-1537833599@cobhcommunitycentre.ie
SUMMARY:Cinema Night @Cobh Community Centre Monday 24th September 7-10pm
DESCRIPTION:East Cork Cinema Club in conjunction with Cobh (Great Island)Community Centre are proud to present Movie Night featuring well known Film (details to follow) . A wonderful nights entertainment will be enjoyed including Complimentary glass of wine and nibbles at our state of the art centre right on your doorstep here in Cobh and the wider East Cork Community . These events are extremely popular with a lovely ambiance for all attendees and hosted by our local Film Guru \, Mr John Smith whose knowledge on things Cinema is second to none . Doors open at 7pm \, so come along and enjoy a relaxing night . Great Value at only €10 per person .  \n  \n 
URL:https://cobhcommunitycentre.ie/event/cinema-night-cobh-community-centre-monday-24th-september-7-10pm/
LOCATION:BALLYDULEA ROOM -COBH COMMUNITY CENTRE\, ORELIA TERRACE \, COBH\, COBH\, MUNSTER\, P24WP82\, Ireland
END:VEVENT
END:VCALENDAR