BEGIN:VCALENDAR
VERSION:2.0
PRODID:-//Cobh Great Island Community Centre - ECPv6.11.1//NONSGML v1.0//EN
CALSCALE:GREGORIAN
METHOD:PUBLISH
X-ORIGINAL-URL:https://cobhcommunitycentre.ie
X-WR-CALDESC:Events for Cobh Great Island Community Centre
REFRESH-INTERVAL;VALUE=DURATION:PT1H
X-Robots-Tag:noindex
X-PUBLISHED-TTL:PT1H
BEGIN:VTIMEZONE
TZID:Europe/London
BEGIN:DAYLIGHT
TZOFFSETFROM:+0000
TZOFFSETTO:+0100
TZNAME:BST
DTSTART:20190331T010000
END:DAYLIGHT
BEGIN:STANDARD
TZOFFSETFROM:+0100
TZOFFSETTO:+0000
TZNAME:GMT
DTSTART:20191027T010000
END:STANDARD
END:VTIMEZONE
BEGIN:VEVENT
DTSTART;TZID=Europe/London:20190419T170000
DTEND;TZID=Europe/London:20190419T203000
DTSTAMP:20260420T105325
CREATED:20190404T144121Z
LAST-MODIFIED:20190404T144121Z
UID:5792-1555693200-1555705800@cobhcommunitycentre.ie
SUMMARY:Red Cross Cobh Branch Room 14
DESCRIPTION:Weekly Group
URL:https://cobhcommunitycentre.ie/event/red-cross-cobh-branch-room-14-11/
END:VEVENT
BEGIN:VEVENT
DTSTART;TZID=Europe/London:20190419T121500
DTEND;TZID=Europe/London:20190419T131500
DTSTAMP:20260420T105325
CREATED:20190404T144131Z
LAST-MODIFIED:20190404T144131Z
UID:5816-1555676100-1555679700@cobhcommunitycentre.ie
SUMMARY:Cork Sports Partnership with Trevor x8 Weeks Main Hall
DESCRIPTION:Fridays
URL:https://cobhcommunitycentre.ie/event/cork-sports-partnership-with-trevor-x8-weeks-main-hall-3/
END:VEVENT
BEGIN:VEVENT
DTSTART;TZID=Europe/London:20190419T103000
DTEND;TZID=Europe/London:20190419T123000
DTSTAMP:20260420T105325
CREATED:20190404T144133Z
LAST-MODIFIED:20190404T144133Z
UID:5820-1555669800-1555677000@cobhcommunitycentre.ie
SUMMARY:Swels Art Class Rooms 8 & 9
DESCRIPTION:Fridays except last Friday of the month
URL:https://cobhcommunitycentre.ie/event/swels-art-class-rooms-8-9-9/
END:VEVENT
BEGIN:VEVENT
DTSTART;TZID=Europe/London:20190418T203000
DTEND;TZID=Europe/London:20190418T213000
DTSTAMP:20260420T105325
CREATED:20190404T144117Z
LAST-MODIFIED:20190404T144117Z
UID:5780-1555619400-1555623000@cobhcommunitycentre.ie
SUMMARY:Cobh Korean Kickboxing Club Room 14
DESCRIPTION:Weekly Group
URL:https://cobhcommunitycentre.ie/event/cobh-korean-kickboxing-club-room-14-11/
END:VEVENT
BEGIN:VEVENT
DTSTART;TZID=Europe/London:20190418T200000
DTEND;TZID=Europe/London:20190418T210000
DTSTAMP:20260420T105325
CREATED:20190405T114932Z
LAST-MODIFIED:20190405T114932Z
UID:5880-1555617600-1555621200@cobhcommunitycentre.ie
SUMMARY:Vincent O'Rourke
DESCRIPTION:Guitar Class
URL:https://cobhcommunitycentre.ie/event/vincent-orourke-3/
END:VEVENT
BEGIN:VEVENT
DTSTART;TZID=Europe/London:20190418T193000
DTEND;TZID=Europe/London:20190418T213000
DTSTAMP:20260420T105325
CREATED:20190404T144114Z
LAST-MODIFIED:20190405T114923Z
UID:5772-1555615800-1555623000@cobhcommunitycentre.ie
SUMMARY:Declan Roche Dancing Main Hall
DESCRIPTION:Weekly Group
URL:https://cobhcommunitycentre.ie/event/declan-roche-dancing-main-hall-11/
END:VEVENT
BEGIN:VEVENT
DTSTART;TZID=Europe/London:20190418T190000
DTEND;TZID=Europe/London:20190418T200000
DTSTAMP:20260420T105325
CREATED:20190405T114930Z
LAST-MODIFIED:20190405T114930Z
UID:5876-1555614000-1555617600@cobhcommunitycentre.ie
SUMMARY:Cobh Trad Group Rooms 8 & 9
DESCRIPTION:Music Class
URL:https://cobhcommunitycentre.ie/event/cobh-trad-group-rooms-8-9-3/
END:VEVENT
BEGIN:VEVENT
DTSTART;TZID=Europe/London:20190418T183000
DTEND;TZID=Europe/London:20190418T203000
DTSTAMP:20260420T105325
CREATED:20190405T114945Z
LAST-MODIFIED:20190405T114945Z
UID:5909-1555612200-1555619400@cobhcommunitycentre.ie
SUMMARY:Cork School of Judo Room 14
DESCRIPTION:Weekly Group
URL:https://cobhcommunitycentre.ie/event/cork-school-of-judo-room-14-14/
END:VEVENT
BEGIN:VEVENT
DTSTART;TZID=Europe/London:20190418T170000
DTEND;TZID=Europe/London:20190418T210000
DTSTAMP:20260420T105325
CREATED:20190405T114956Z
LAST-MODIFIED:20190405T114956Z
UID:5936-1555606800-1555621200@cobhcommunitycentre.ie
SUMMARY:Rosewood Grove Room 10
DESCRIPTION:Weekly Group
URL:https://cobhcommunitycentre.ie/event/rosewood-grove-room-10-17/
END:VEVENT
BEGIN:VEVENT
DTSTART;TZID=Europe/London:20190418T170000
DTEND;TZID=Europe/London:20190418T180000
DTSTAMP:20260420T105325
CREATED:20190404T144129Z
LAST-MODIFIED:20190404T144129Z
UID:5812-1555606800-1555610400@cobhcommunitycentre.ie
SUMMARY:Pop + Rock Choir Room 14
DESCRIPTION:Weekly Group
URL:https://cobhcommunitycentre.ie/event/pop-rock-choir-room-14-11/
END:VEVENT
BEGIN:VEVENT
DTSTART;TZID=Europe/London:20190418T140000
DTEND;TZID=Europe/London:20190418T163000
DTSTAMP:20260420T105325
CREATED:20190404T144120Z
LAST-MODIFIED:20190405T114926Z
UID:5788-1555596000-1555605000@cobhcommunitycentre.ie
SUMMARY:Bridge Cards Group Rooms 8 & 9
DESCRIPTION:Weekly Group
URL:https://cobhcommunitycentre.ie/event/bridge-cards-group-rooms-8-9-11/
END:VEVENT
BEGIN:VEVENT
DTSTART;TZID=Europe/London:20190418T121500
DTEND;TZID=Europe/London:20190418T131500
DTSTAMP:20260420T105325
CREATED:20190405T114942Z
LAST-MODIFIED:20190405T114942Z
UID:5902-1555589700-1555593300@cobhcommunitycentre.ie
SUMMARY:Swels Yoga St. Colman's Wing 1
DESCRIPTION:Weekly Group
URL:https://cobhcommunitycentre.ie/event/swels-yoga-st-colmans-wing-1-7/
END:VEVENT
BEGIN:VEVENT
DTSTART;TZID=Europe/London:20190418T110000
DTEND;TZID=Europe/London:20190418T120000
DTSTAMP:20260420T105325
CREATED:20190405T114940Z
LAST-MODIFIED:20190405T114940Z
UID:5898-1555585200-1555588800@cobhcommunitycentre.ie
SUMMARY:Swels Cards Room 13
DESCRIPTION:Weekly Group
URL:https://cobhcommunitycentre.ie/event/swels-cards-room-13-7/
END:VEVENT
BEGIN:VEVENT
DTSTART;TZID=Europe/London:20190418T100000
DTEND;TZID=Europe/London:20190418T110000
DTSTAMP:20260420T105325
CREATED:20190404T144136Z
LAST-MODIFIED:20190404T144136Z
UID:5829-1555581600-1555585200@cobhcommunitycentre.ie
SUMMARY:Activator Poles Walking Course Main Hall
DESCRIPTION:Weekly Group
URL:https://cobhcommunitycentre.ie/event/activator-poles-walking-course-main-hall-7/
END:VEVENT
BEGIN:VEVENT
DTSTART;TZID=Europe/London:20190417T190000
DTEND;TZID=Europe/London:20190417T210000
DTSTAMP:20260420T105325
CREATED:20190404T144119Z
LAST-MODIFIED:20190405T114925Z
UID:5784-1555527600-1555534800@cobhcommunitycentre.ie
SUMMARY:Fencing Class Main Hall
DESCRIPTION:Weekly Group
URL:https://cobhcommunitycentre.ie/event/fencing-class-main-hall-11/
END:VEVENT
BEGIN:VEVENT
DTSTART;TZID=Europe/London:20190417T111500
DTEND;TZID=Europe/London:20190417T121500
DTSTAMP:20260420T105325
CREATED:20190405T114936Z
LAST-MODIFIED:20190405T114936Z
UID:5889-1555499700-1555503300@cobhcommunitycentre.ie
SUMMARY:Swels Fit Walk Main Hall
DESCRIPTION:Weekly Group
URL:https://cobhcommunitycentre.ie/event/swels-fit-walk-main-hall-7/
END:VEVENT
BEGIN:VEVENT
DTSTART;TZID=Europe/London:20190416T180000
DTEND;TZID=Europe/London:20190416T220000
DTSTAMP:20260420T105325
CREATED:20190405T114944Z
LAST-MODIFIED:20190405T114944Z
UID:5908-1555437600-1555452000@cobhcommunitycentre.ie
SUMMARY:Cork School of Judo Room 14
DESCRIPTION:Weekly Group
URL:https://cobhcommunitycentre.ie/event/cork-school-of-judo-room-14-13/
END:VEVENT
BEGIN:VEVENT
DTSTART;TZID=Europe/London:20190416T150000
DTEND;TZID=Europe/London:20190416T160000
DTSTAMP:20260420T105325
CREATED:20190405T114934Z
LAST-MODIFIED:20190405T114934Z
UID:5884-1555426800-1555430400@cobhcommunitycentre.ie
SUMMARY:Swels Dance Class St. Colman's Wing 1
DESCRIPTION:Weekly Group
URL:https://cobhcommunitycentre.ie/event/swels-dance-class-st-colmans-wing-1-7/
END:VEVENT
BEGIN:VEVENT
DTSTART;TZID=Europe/London:20190416T110000
DTEND;TZID=Europe/London:20190416T120000
DTSTAMP:20260420T105325
CREATED:20190405T114937Z
LAST-MODIFIED:20190405T114937Z
UID:5893-1555412400-1555416000@cobhcommunitycentre.ie
SUMMARY:Swels Singing St. Colman's Wing 1
DESCRIPTION:Weekly Group
URL:https://cobhcommunitycentre.ie/event/swels-singing-st-colmans-wing-1-7/
END:VEVENT
BEGIN:VEVENT
DTSTART;TZID=Europe/London:20190415T190000
DTEND;TZID=Europe/London:20190415T220000
DTSTAMP:20260420T105325
CREATED:20190403T151142Z
LAST-MODIFIED:20190403T151142Z
UID:5742-1555354800-1555365600@cobhcommunitycentre.ie
SUMMARY:East Cork Cinema Club Room 14 (This event takes place one Monday a month\, check with centre re: dates)
DESCRIPTION:Movie Night
URL:https://cobhcommunitycentre.ie/event/east-cork-cinema-club-room-14-this-event-takes-place-one-monday-a-month-check-with-centre-re-dates-3/
END:VEVENT
BEGIN:VEVENT
DTSTART;TZID=Europe/London:20190415T180000
DTEND;TZID=Europe/London:20190415T190000
DTSTAMP:20260420T105325
CREATED:20190403T151134Z
LAST-MODIFIED:20190403T151134Z
UID:5720-1555351200-1555354800@cobhcommunitycentre.ie
SUMMARY:Cobh Girls Basketball Cathy Main Hall
DESCRIPTION:Weekly Basketball
URL:https://cobhcommunitycentre.ie/event/cobh-girls-basketball-cathy-main-hall-11/
END:VEVENT
BEGIN:VEVENT
DTSTART;TZID=Europe/London:20190415T170000
DTEND;TZID=Europe/London:20190415T210000
DTSTAMP:20260420T105325
CREATED:20190405T114956Z
LAST-MODIFIED:20190405T114956Z
UID:5935-1555347600-1555362000@cobhcommunitycentre.ie
SUMMARY:Rosewood Grove Room 10
DESCRIPTION:Weekly Group
URL:https://cobhcommunitycentre.ie/event/rosewood-grove-room-10-16/
END:VEVENT
BEGIN:VEVENT
DTSTART;TZID=Europe/London:20190415T170000
DTEND;TZID=Europe/London:20190415T180000
DTSTAMP:20260420T105325
CREATED:20190403T151132Z
LAST-MODIFIED:20190403T151132Z
UID:5715-1555347600-1555351200@cobhcommunitycentre.ie
SUMMARY:Cobh Basketball Club Dominic Main Hall
DESCRIPTION:Weekly Basketball
URL:https://cobhcommunitycentre.ie/event/cobh-basketball-club-dominic-main-hall-11/
END:VEVENT
BEGIN:VEVENT
DTSTART;TZID=Europe/London:20190415T100000
DTEND;TZID=Europe/London:20190415T120000
DTSTAMP:20260420T105325
CREATED:20190403T151129Z
LAST-MODIFIED:20190403T151129Z
UID:5710-1555322400-1555329600@cobhcommunitycentre.ie
SUMMARY:Swels Active Retirement Main Hall
DESCRIPTION:Weekly Monday Meeting for Swels
URL:https://cobhcommunitycentre.ie/event/swels-active-retirement-main-hall-11/
END:VEVENT
BEGIN:VEVENT
DTSTART;TZID=Europe/London:20190415T090000
DTEND;TZID=Europe/London:20190415T090000
DTSTAMP:20260420T105325
CREATED:20190404T144135Z
LAST-MODIFIED:20190404T144135Z
UID:5825-1555318800-1555318800@cobhcommunitycentre.ie
SUMMARY:Tourism Course St. Colman's Wing 1
DESCRIPTION:Until 29th April
URL:https://cobhcommunitycentre.ie/event/tourism-course-st-colmans-wing-1-11/
END:VEVENT
BEGIN:VEVENT
DTSTART;TZID=Europe/London:20190415T000000
DTEND;TZID=Europe/London:20190426T000000
DTSTAMP:20260420T105325
CREATED:20190403T151136Z
LAST-MODIFIED:20190404T144108Z
UID:5725-1555286400-1556236800@cobhcommunitycentre.ie
SUMMARY:Easter Mid-Term Please check with centre for available groups this week
DESCRIPTION:
URL:https://cobhcommunitycentre.ie/event/easter-mid-term-please-check-with-centre-for-available-groups-this-week/
END:VEVENT
BEGIN:VEVENT
DTSTART;TZID=Europe/London:20190414T100000
DTEND;TZID=Europe/London:20190414T140000
DTSTAMP:20260420T105325
CREATED:20190404T144116Z
LAST-MODIFIED:20190404T144116Z
UID:5775-1555236000-1555250400@cobhcommunitycentre.ie
SUMMARY:Rebel County Archery Club Main Hall
DESCRIPTION:Weekly Group
URL:https://cobhcommunitycentre.ie/event/rebel-county-archery-club-main-hall-10/
END:VEVENT
BEGIN:VEVENT
DTSTART;TZID=Europe/London:20190414T100000
DTEND;TZID=Europe/London:20190414T130000
DTSTAMP:20260420T105325
CREATED:20190404T144125Z
LAST-MODIFIED:20190405T114927Z
UID:5799-1555236000-1555246800@cobhcommunitycentre.ie
SUMMARY:Good News Christian Church
DESCRIPTION:Weekly Group
URL:https://cobhcommunitycentre.ie/event/good-news-christian-church-10/
END:VEVENT
BEGIN:VEVENT
DTSTART;TZID=Europe/London:20190413T100000
DTEND;TZID=Europe/London:20190413T130000
DTSTAMP:20260420T105325
CREATED:20190404T144112Z
LAST-MODIFIED:20190405T114921Z
UID:5765-1555149600-1555160400@cobhcommunitycentre.ie
SUMMARY:Basketball Main Hall
DESCRIPTION:Weekly Group
URL:https://cobhcommunitycentre.ie/event/basketball-main-hall-6/
END:VEVENT
BEGIN:VEVENT
DTSTART;TZID=Europe/London:20190413T090000
DTEND;TZID=Europe/London:20190413T170000
DTSTAMP:20260420T105325
CREATED:20190405T114956Z
LAST-MODIFIED:20190405T114956Z
UID:5934-1555146000-1555174800@cobhcommunitycentre.ie
SUMMARY:Rosewood Grove Room 14
DESCRIPTION:Weekly Group
URL:https://cobhcommunitycentre.ie/event/rosewood-grove-room-14-6/
END:VEVENT
END:VCALENDAR