BEGIN:VCALENDAR
VERSION:2.0
PRODID:-//Cobh Great Island Community Centre - ECPv6.11.1//NONSGML v1.0//EN
CALSCALE:GREGORIAN
METHOD:PUBLISH
X-ORIGINAL-URL:https://cobhcommunitycentre.ie
X-WR-CALDESC:Events for Cobh Great Island Community Centre
REFRESH-INTERVAL;VALUE=DURATION:PT1H
X-Robots-Tag:noindex
X-PUBLISHED-TTL:PT1H
BEGIN:VTIMEZONE
TZID:Europe/London
BEGIN:DAYLIGHT
TZOFFSETFROM:+0000
TZOFFSETTO:+0100
TZNAME:BST
DTSTART:20190331T010000
END:DAYLIGHT
BEGIN:STANDARD
TZOFFSETFROM:+0100
TZOFFSETTO:+0000
TZNAME:GMT
DTSTART:20191027T010000
END:STANDARD
END:VTIMEZONE
BEGIN:VEVENT
DTSTART;TZID=Europe/London:20190415T180000
DTEND;TZID=Europe/London:20190415T190000
DTSTAMP:20260420T131300
CREATED:20190403T151134Z
LAST-MODIFIED:20190403T151134Z
UID:5720-1555351200-1555354800@cobhcommunitycentre.ie
SUMMARY:Cobh Girls Basketball Cathy Main Hall
DESCRIPTION:Weekly Basketball
URL:https://cobhcommunitycentre.ie/event/cobh-girls-basketball-cathy-main-hall-11/
END:VEVENT
BEGIN:VEVENT
DTSTART;TZID=Europe/London:20190415T170000
DTEND;TZID=Europe/London:20190415T210000
DTSTAMP:20260420T131300
CREATED:20190405T114956Z
LAST-MODIFIED:20190405T114956Z
UID:5935-1555347600-1555362000@cobhcommunitycentre.ie
SUMMARY:Rosewood Grove Room 10
DESCRIPTION:Weekly Group
URL:https://cobhcommunitycentre.ie/event/rosewood-grove-room-10-16/
END:VEVENT
BEGIN:VEVENT
DTSTART;TZID=Europe/London:20190415T170000
DTEND;TZID=Europe/London:20190415T180000
DTSTAMP:20260420T131300
CREATED:20190403T151132Z
LAST-MODIFIED:20190403T151132Z
UID:5715-1555347600-1555351200@cobhcommunitycentre.ie
SUMMARY:Cobh Basketball Club Dominic Main Hall
DESCRIPTION:Weekly Basketball
URL:https://cobhcommunitycentre.ie/event/cobh-basketball-club-dominic-main-hall-11/
END:VEVENT
BEGIN:VEVENT
DTSTART;TZID=Europe/London:20190415T100000
DTEND;TZID=Europe/London:20190415T120000
DTSTAMP:20260420T131300
CREATED:20190403T151129Z
LAST-MODIFIED:20190403T151129Z
UID:5710-1555322400-1555329600@cobhcommunitycentre.ie
SUMMARY:Swels Active Retirement Main Hall
DESCRIPTION:Weekly Monday Meeting for Swels
URL:https://cobhcommunitycentre.ie/event/swels-active-retirement-main-hall-11/
END:VEVENT
BEGIN:VEVENT
DTSTART;TZID=Europe/London:20190415T090000
DTEND;TZID=Europe/London:20190415T090000
DTSTAMP:20260420T131300
CREATED:20190404T144135Z
LAST-MODIFIED:20190404T144135Z
UID:5825-1555318800-1555318800@cobhcommunitycentre.ie
SUMMARY:Tourism Course St. Colman's Wing 1
DESCRIPTION:Until 29th April
URL:https://cobhcommunitycentre.ie/event/tourism-course-st-colmans-wing-1-11/
END:VEVENT
BEGIN:VEVENT
DTSTART;TZID=Europe/London:20190415T000000
DTEND;TZID=Europe/London:20190426T000000
DTSTAMP:20260420T131300
CREATED:20190403T151136Z
LAST-MODIFIED:20190404T144108Z
UID:5725-1555286400-1556236800@cobhcommunitycentre.ie
SUMMARY:Easter Mid-Term Please check with centre for available groups this week
DESCRIPTION:
URL:https://cobhcommunitycentre.ie/event/easter-mid-term-please-check-with-centre-for-available-groups-this-week/
END:VEVENT
BEGIN:VEVENT
DTSTART;TZID=Europe/London:20190414T100000
DTEND;TZID=Europe/London:20190414T140000
DTSTAMP:20260420T131300
CREATED:20190404T144116Z
LAST-MODIFIED:20190404T144116Z
UID:5775-1555236000-1555250400@cobhcommunitycentre.ie
SUMMARY:Rebel County Archery Club Main Hall
DESCRIPTION:Weekly Group
URL:https://cobhcommunitycentre.ie/event/rebel-county-archery-club-main-hall-10/
END:VEVENT
BEGIN:VEVENT
DTSTART;TZID=Europe/London:20190414T100000
DTEND;TZID=Europe/London:20190414T130000
DTSTAMP:20260420T131300
CREATED:20190404T144125Z
LAST-MODIFIED:20190405T114927Z
UID:5799-1555236000-1555246800@cobhcommunitycentre.ie
SUMMARY:Good News Christian Church
DESCRIPTION:Weekly Group
URL:https://cobhcommunitycentre.ie/event/good-news-christian-church-10/
END:VEVENT
BEGIN:VEVENT
DTSTART;TZID=Europe/London:20190413T100000
DTEND;TZID=Europe/London:20190413T130000
DTSTAMP:20260420T131300
CREATED:20190404T144112Z
LAST-MODIFIED:20190405T114921Z
UID:5765-1555149600-1555160400@cobhcommunitycentre.ie
SUMMARY:Basketball Main Hall
DESCRIPTION:Weekly Group
URL:https://cobhcommunitycentre.ie/event/basketball-main-hall-6/
END:VEVENT
BEGIN:VEVENT
DTSTART;TZID=Europe/London:20190413T090000
DTEND;TZID=Europe/London:20190413T170000
DTSTAMP:20260420T131300
CREATED:20190405T114956Z
LAST-MODIFIED:20190405T114956Z
UID:5934-1555146000-1555174800@cobhcommunitycentre.ie
SUMMARY:Rosewood Grove Room 14
DESCRIPTION:Weekly Group
URL:https://cobhcommunitycentre.ie/event/rosewood-grove-room-14-6/
END:VEVENT
BEGIN:VEVENT
DTSTART;TZID=Europe/London:20190413T083000
DTEND;TZID=Europe/London:20190413T123000
DTSTAMP:20260420T131300
CREATED:20190404T144123Z
LAST-MODIFIED:20190404T144123Z
UID:5795-1555144200-1555158600@cobhcommunitycentre.ie
SUMMARY:Slimming World Rooms 8 & 9
DESCRIPTION:Weekly Group
URL:https://cobhcommunitycentre.ie/event/slimming-world-rooms-8-9-10/
END:VEVENT
BEGIN:VEVENT
DTSTART;TZID=Europe/London:20190412T201500
DTEND;TZID=Europe/London:20190412T221500
DTSTAMP:20260420T131300
CREATED:20190403T151138Z
LAST-MODIFIED:20190403T151138Z
UID:5731-1555100100-1555107300@cobhcommunitycentre.ie
SUMMARY:Bingo Main Hall
DESCRIPTION:Every Friday Night
URL:https://cobhcommunitycentre.ie/event/bingo-main-hall-10/
END:VEVENT
BEGIN:VEVENT
DTSTART;TZID=Europe/London:20190412T193000
DTEND;TZID=Europe/London:20190412T223000
DTSTAMP:20260420T131300
CREATED:20190404T144111Z
LAST-MODIFIED:20190405T114921Z
UID:5761-1555097400-1555108200@cobhcommunitycentre.ie
SUMMARY:Cobh Gramophone Society Rooms 8 & 9
DESCRIPTION:Weekly Group
URL:https://cobhcommunitycentre.ie/event/cobh-gramophone-society-rooms-8-9-10/
END:VEVENT
BEGIN:VEVENT
DTSTART;TZID=Europe/London:20190412T180000
DTEND;TZID=Europe/London:20190412T201500
DTSTAMP:20260420T131300
CREATED:20190405T114952Z
LAST-MODIFIED:20190405T114952Z
UID:5927-1555092000-1555100100@cobhcommunitycentre.ie
SUMMARY:Irish Girl Guides St. Colman's Wing 1 & 2
DESCRIPTION:Weekly Group
URL:https://cobhcommunitycentre.ie/event/irish-girl-guides-st-colmans-wing-1-2-107/
END:VEVENT
BEGIN:VEVENT
DTSTART;TZID=Europe/London:20190412T170000
DTEND;TZID=Europe/London:20190412T203000
DTSTAMP:20260420T131300
CREATED:20190404T144120Z
LAST-MODIFIED:20190404T144120Z
UID:5791-1555088400-1555101000@cobhcommunitycentre.ie
SUMMARY:Red Cross Cobh Branch Room 14
DESCRIPTION:Weekly Group
URL:https://cobhcommunitycentre.ie/event/red-cross-cobh-branch-room-14-10/
END:VEVENT
BEGIN:VEVENT
DTSTART;TZID=Europe/London:20190412T121500
DTEND;TZID=Europe/London:20190412T131500
DTSTAMP:20260420T131300
CREATED:20190404T144130Z
LAST-MODIFIED:20190404T144130Z
UID:5815-1555071300-1555074900@cobhcommunitycentre.ie
SUMMARY:Cork Sports Partnership with Trevor x8 Weeks Main Hall
DESCRIPTION:Fridays
URL:https://cobhcommunitycentre.ie/event/cork-sports-partnership-with-trevor-x8-weeks-main-hall-2/
END:VEVENT
BEGIN:VEVENT
DTSTART;TZID=Europe/London:20190412T103000
DTEND;TZID=Europe/London:20190412T123000
DTSTAMP:20260420T131300
CREATED:20190404T144133Z
LAST-MODIFIED:20190404T144133Z
UID:5819-1555065000-1555072200@cobhcommunitycentre.ie
SUMMARY:Swels Art Class Rooms 8 & 9
DESCRIPTION:Fridays except last Friday of the month
URL:https://cobhcommunitycentre.ie/event/swels-art-class-rooms-8-9-8/
END:VEVENT
BEGIN:VEVENT
DTSTART;TZID=Europe/London:20190411T203000
DTEND;TZID=Europe/London:20190411T213000
DTSTAMP:20260420T131300
CREATED:20190404T144117Z
LAST-MODIFIED:20190404T144117Z
UID:5779-1555014600-1555018200@cobhcommunitycentre.ie
SUMMARY:Cobh Korean Kickboxing Club Room 14
DESCRIPTION:Weekly Group
URL:https://cobhcommunitycentre.ie/event/cobh-korean-kickboxing-club-room-14-10/
END:VEVENT
BEGIN:VEVENT
DTSTART;TZID=Europe/London:20190411T203000
DTEND;TZID=Europe/London:20190411T213000
DTSTAMP:20260420T131300
CREATED:20190404T144114Z
LAST-MODIFIED:20190404T144114Z
UID:5769-1555014600-1555018200@cobhcommunitycentre.ie
SUMMARY:Bird Club Room 7
DESCRIPTION:(Second Thurs of each month)
URL:https://cobhcommunitycentre.ie/event/bird-club-room-7-3/
END:VEVENT
BEGIN:VEVENT
DTSTART;TZID=Europe/London:20190411T200000
DTEND;TZID=Europe/London:20190411T210000
DTSTAMP:20260420T131300
CREATED:20190405T114932Z
LAST-MODIFIED:20190405T114932Z
UID:5879-1555012800-1555016400@cobhcommunitycentre.ie
SUMMARY:Vincent O'Rourke
DESCRIPTION:Guitar Class
URL:https://cobhcommunitycentre.ie/event/vincent-orourke-2/
END:VEVENT
BEGIN:VEVENT
DTSTART;TZID=Europe/London:20190411T193000
DTEND;TZID=Europe/London:20190411T213000
DTSTAMP:20260420T131300
CREATED:20190404T144114Z
LAST-MODIFIED:20190405T114923Z
UID:5771-1555011000-1555018200@cobhcommunitycentre.ie
SUMMARY:Declan Roche Dancing Main Hall
DESCRIPTION:Weekly Group
URL:https://cobhcommunitycentre.ie/event/declan-roche-dancing-main-hall-10/
END:VEVENT
BEGIN:VEVENT
DTSTART;TZID=Europe/London:20190411T190000
DTEND;TZID=Europe/London:20190411T200000
DTSTAMP:20260420T131300
CREATED:20190405T114930Z
LAST-MODIFIED:20190405T114930Z
UID:5875-1555009200-1555012800@cobhcommunitycentre.ie
SUMMARY:Cobh Trad Group Rooms 8 & 9
DESCRIPTION:Music Class
URL:https://cobhcommunitycentre.ie/event/cobh-trad-group-rooms-8-9-2/
END:VEVENT
BEGIN:VEVENT
DTSTART;TZID=Europe/London:20190411T183000
DTEND;TZID=Europe/London:20190411T203000
DTSTAMP:20260420T131300
CREATED:20190405T114944Z
LAST-MODIFIED:20190405T114944Z
UID:5907-1555007400-1555014600@cobhcommunitycentre.ie
SUMMARY:Cork School of Judo Room 14
DESCRIPTION:Weekly Group
URL:https://cobhcommunitycentre.ie/event/cork-school-of-judo-room-14-12/
END:VEVENT
BEGIN:VEVENT
DTSTART;TZID=Europe/London:20190411T180000
DTEND;TZID=Europe/London:20190411T200000
DTSTAMP:20260420T131300
CREATED:20190403T151140Z
LAST-MODIFIED:20190403T151140Z
UID:5737-1555005600-1555012800@cobhcommunitycentre.ie
SUMMARY:Cowhie - Ryan Irish Dancing Rooms 8 & 9
DESCRIPTION:Weekly Group
URL:https://cobhcommunitycentre.ie/event/cowhie-ryan-irish-dancing-rooms-8-9-10/
END:VEVENT
BEGIN:VEVENT
DTSTART;TZID=Europe/London:20190411T170000
DTEND;TZID=Europe/London:20190411T210000
DTSTAMP:20260420T131300
CREATED:20190405T114954Z
LAST-MODIFIED:20190405T114954Z
UID:5933-1555002000-1555016400@cobhcommunitycentre.ie
SUMMARY:Rosewood Grove Room 10
DESCRIPTION:Weekly Group
URL:https://cobhcommunitycentre.ie/event/rosewood-grove-room-10-15/
END:VEVENT
BEGIN:VEVENT
DTSTART;TZID=Europe/London:20190411T170000
DTEND;TZID=Europe/London:20190411T180000
DTSTAMP:20260420T131300
CREATED:20190404T144129Z
LAST-MODIFIED:20190404T144129Z
UID:5811-1555002000-1555005600@cobhcommunitycentre.ie
SUMMARY:Pop + Rock Choir Room 14
DESCRIPTION:Weekly Group
URL:https://cobhcommunitycentre.ie/event/pop-rock-choir-room-14-10/
END:VEVENT
BEGIN:VEVENT
DTSTART;TZID=Europe/London:20190411T163000
DTEND;TZID=Europe/London:20190411T184500
DTSTAMP:20260420T131300
CREATED:20190405T114952Z
LAST-MODIFIED:20190405T114952Z
UID:5926-1555000200-1555008300@cobhcommunitycentre.ie
SUMMARY:Irish Girl Guides St. Colman's Wing 1 & 2
DESCRIPTION:Weekly Group
URL:https://cobhcommunitycentre.ie/event/irish-girl-guides-st-colmans-wing-1-2-106/
END:VEVENT
BEGIN:VEVENT
DTSTART;TZID=Europe/London:20190411T140000
DTEND;TZID=Europe/London:20190411T163000
DTSTAMP:20260420T131300
CREATED:20190404T144119Z
LAST-MODIFIED:20190405T114925Z
UID:5787-1554991200-1555000200@cobhcommunitycentre.ie
SUMMARY:Bridge Cards Group Rooms 8 & 9
DESCRIPTION:Weekly Group
URL:https://cobhcommunitycentre.ie/event/bridge-cards-group-rooms-8-9-10/
END:VEVENT
BEGIN:VEVENT
DTSTART;TZID=Europe/London:20190411T134000
DTEND;TZID=Europe/London:20190411T154000
DTSTAMP:20260420T131300
CREATED:20190404T144108Z
LAST-MODIFIED:20190404T144108Z
UID:5757-1554990000-1554997200@cobhcommunitycentre.ie
SUMMARY:Cobh Children's Theatre Main Hall
DESCRIPTION:Drama Class
URL:https://cobhcommunitycentre.ie/event/cobh-childrens-theatre-main-hall-9/
END:VEVENT
BEGIN:VEVENT
DTSTART;TZID=Europe/London:20190411T121500
DTEND;TZID=Europe/London:20190411T131500
DTSTAMP:20260420T131300
CREATED:20190405T114942Z
LAST-MODIFIED:20190405T114942Z
UID:5901-1554984900-1554988500@cobhcommunitycentre.ie
SUMMARY:Swels Yoga St. Colman's Wing 1
DESCRIPTION:Weekly Group
URL:https://cobhcommunitycentre.ie/event/swels-yoga-st-colmans-wing-1-6/
END:VEVENT
END:VCALENDAR